BEGIN:VCALENDAR
VERSION:2.0
PRODID:-//Hechos 29 - ECPv6.15.20//NONSGML v1.0//EN
CALSCALE:GREGORIAN
METHOD:PUBLISH
X-ORIGINAL-URL:https://hechos29.co
X-WR-CALDESC:Eventos para Hechos 29
REFRESH-INTERVAL;VALUE=DURATION:PT1H
X-Robots-Tag:noindex
X-PUBLISHED-TTL:PT1H
BEGIN:VTIMEZONE
TZID:America/Bogota
BEGIN:STANDARD
TZOFFSETFROM:-0500
TZOFFSETTO:-0500
TZNAME:-05
DTSTART:20230101T000000
END:STANDARD
END:VTIMEZONE
BEGIN:VEVENT
DTSTART;VALUE=DATE:20240816
DTEND;VALUE=DATE:20240817
DTSTAMP:20260422T054604
CREATED:20240605T210834Z
LAST-MODIFIED:20240605T210834Z
UID:17570-1723766400-1723852799@hechos29.co
SUMMARY:1 Reyes 2:28-35
DESCRIPTION:
URL:https://hechos29.co/evento/1-reyes-228-35/
END:VEVENT
END:VCALENDAR