BEGIN:VCALENDAR
VERSION:2.0
PRODID:-//Hechos 29 - ECPv6.15.20//NONSGML v1.0//EN
CALSCALE:GREGORIAN
METHOD:PUBLISH
X-WR-CALNAME:Hechos 29
X-ORIGINAL-URL:https://hechos29.co
X-WR-CALDESC:Eventos para Hechos 29
REFRESH-INTERVAL;VALUE=DURATION:PT1H
X-Robots-Tag:noindex
X-PUBLISHED-TTL:PT1H
BEGIN:VTIMEZONE
TZID:America/Bogota
BEGIN:STANDARD
TZOFFSETFROM:-0500
TZOFFSETTO:-0500
TZNAME:-05
DTSTART:20230101T000000
END:STANDARD
END:VTIMEZONE
BEGIN:VEVENT
DTSTART;VALUE=DATE:20240524
DTEND;VALUE=DATE:20240525
DTSTAMP:20260423T041714
CREATED:20240327T222518Z
LAST-MODIFIED:20240327T222518Z
UID:17327-1716508800-1716595199@hechos29.co
SUMMARY:2 Samuel 6:16-23
DESCRIPTION:
URL:https://hechos29.co/evento/2-samuel-616-23/
END:VEVENT
BEGIN:VEVENT
DTSTART;VALUE=DATE:20240525
DTEND;VALUE=DATE:20240526
DTSTAMP:20260423T041714
CREATED:20240327T222554Z
LAST-MODIFIED:20240327T222554Z
UID:17329-1716595200-1716681599@hechos29.co
SUMMARY:2 Samuel 7:1-17
DESCRIPTION:
URL:https://hechos29.co/evento/2-samuel-71-17/
END:VEVENT
BEGIN:VEVENT
DTSTART;VALUE=DATE:20240526
DTEND;VALUE=DATE:20240527
DTSTAMP:20260423T041714
CREATED:20240327T222629Z
LAST-MODIFIED:20240327T222629Z
UID:17331-1716681600-1716767999@hechos29.co
SUMMARY:2 Samuel 7:18-29
DESCRIPTION:
URL:https://hechos29.co/evento/2-samuel-718-29/
END:VEVENT
BEGIN:VEVENT
DTSTART;VALUE=DATE:20240527
DTEND;VALUE=DATE:20240528
DTSTAMP:20260423T041714
CREATED:20240327T222820Z
LAST-MODIFIED:20240327T222820Z
UID:17333-1716768000-1716854399@hechos29.co
SUMMARY:Hechos 20:1-12
DESCRIPTION:
URL:https://hechos29.co/evento/hechos-201-12/
END:VEVENT
BEGIN:VEVENT
DTSTART;VALUE=DATE:20240528
DTEND;VALUE=DATE:20240529
DTSTAMP:20260423T041714
CREATED:20240327T222858Z
LAST-MODIFIED:20240327T222858Z
UID:17335-1716854400-1716940799@hechos29.co
SUMMARY:Hechos 20:13-38
DESCRIPTION:
URL:https://hechos29.co/evento/hechos-2013-38/
END:VEVENT
BEGIN:VEVENT
DTSTART;VALUE=DATE:20240529
DTEND;VALUE=DATE:20240530
DTSTAMP:20260423T041714
CREATED:20240327T222948Z
LAST-MODIFIED:20240327T222948Z
UID:17337-1716940800-1717027199@hechos29.co
SUMMARY:Hechos 21:1-16
DESCRIPTION:
URL:https://hechos29.co/evento/hechos-211-16/
END:VEVENT
BEGIN:VEVENT
DTSTART;VALUE=DATE:20240530
DTEND;VALUE=DATE:20240531
DTSTAMP:20260423T041714
CREATED:20240327T223106Z
LAST-MODIFIED:20240327T223106Z
UID:17339-1717027200-1717113599@hechos29.co
SUMMARY:Hechos 21:17-26
DESCRIPTION:
URL:https://hechos29.co/evento/hechos-2117-26/
END:VEVENT
BEGIN:VEVENT
DTSTART;VALUE=DATE:20240531
DTEND;VALUE=DATE:20240601
DTSTAMP:20260423T041714
CREATED:20240327T223159Z
LAST-MODIFIED:20240327T223159Z
UID:17341-1717113600-1717199999@hechos29.co
SUMMARY:Hechos 21:27-40
DESCRIPTION:
URL:https://hechos29.co/evento/hechos-2127-40/
END:VEVENT
BEGIN:VEVENT
DTSTART;VALUE=DATE:20240601
DTEND;VALUE=DATE:20240602
DTSTAMP:20260423T041714
CREATED:20240506T011242Z
LAST-MODIFIED:20240506T011242Z
UID:17390-1717200000-1717286399@hechos29.co
SUMMARY:Hechos 22:1-23
DESCRIPTION:
URL:https://hechos29.co/evento/hechos-221-23/
END:VEVENT
BEGIN:VEVENT
DTSTART;VALUE=DATE:20240602
DTEND;VALUE=DATE:20240603
DTSTAMP:20260423T041714
CREATED:20240506T011510Z
LAST-MODIFIED:20240506T011510Z
UID:17392-1717286400-1717372799@hechos29.co
SUMMARY:Hechos 22:24-30
DESCRIPTION:
URL:https://hechos29.co/evento/hechos-2224-30/
END:VEVENT
BEGIN:VEVENT
DTSTART;VALUE=DATE:20240603
DTEND;VALUE=DATE:20240604
DTSTAMP:20260423T041714
CREATED:20240506T011711Z
LAST-MODIFIED:20240506T011711Z
UID:17394-1717372800-1717459199@hechos29.co
SUMMARY:2 Samuel 8:1-18
DESCRIPTION:
URL:https://hechos29.co/evento/2-samuel-81-18/
END:VEVENT
BEGIN:VEVENT
DTSTART;VALUE=DATE:20240604
DTEND;VALUE=DATE:20240605
DTSTAMP:20260423T041714
CREATED:20240506T011746Z
LAST-MODIFIED:20240506T011746Z
UID:17396-1717459200-1717545599@hechos29.co
SUMMARY:2 Samuel 9:1-12
DESCRIPTION:
URL:https://hechos29.co/evento/2-samuel-91-12/
END:VEVENT
BEGIN:VEVENT
DTSTART;VALUE=DATE:20240605
DTEND;VALUE=DATE:20240606
DTSTAMP:20260423T041714
CREATED:20240506T011937Z
LAST-MODIFIED:20240506T011937Z
UID:17398-1717545600-1717631999@hechos29.co
SUMMARY:2 Samuel 10:1-19
DESCRIPTION:
URL:https://hechos29.co/evento/2-samuel-101-19/
END:VEVENT
BEGIN:VEVENT
DTSTART;VALUE=DATE:20240606
DTEND;VALUE=DATE:20240607
DTSTAMP:20260423T041714
CREATED:20240506T012059Z
LAST-MODIFIED:20240506T012059Z
UID:17400-1717632000-1717718399@hechos29.co
SUMMARY:2 Samuel 11:1-13
DESCRIPTION:
URL:https://hechos29.co/evento/2-samuel-111-13/
END:VEVENT
BEGIN:VEVENT
DTSTART;VALUE=DATE:20240607
DTEND;VALUE=DATE:20240608
DTSTAMP:20260423T041714
CREATED:20240506T012150Z
LAST-MODIFIED:20240506T012150Z
UID:17402-1717718400-1717804799@hechos29.co
SUMMARY:2 Samuel 11:14-27
DESCRIPTION:
URL:https://hechos29.co/evento/2-samuel-1114-27/
END:VEVENT
BEGIN:VEVENT
DTSTART;VALUE=DATE:20240608
DTEND;VALUE=DATE:20240609
DTSTAMP:20260423T041714
CREATED:20240506T012233Z
LAST-MODIFIED:20240506T012233Z
UID:17404-1717804800-1717891199@hechos29.co
SUMMARY:2 Samuel 12:1-12
DESCRIPTION:
URL:https://hechos29.co/evento/2-samuel-121-12/
END:VEVENT
BEGIN:VEVENT
DTSTART;VALUE=DATE:20240609
DTEND;VALUE=DATE:20240610
DTSTAMP:20260423T041714
CREATED:20240506T012334Z
LAST-MODIFIED:20240506T012334Z
UID:17406-1717891200-1717977599@hechos29.co
SUMMARY:2 Samuel 12:13-31
DESCRIPTION:
URL:https://hechos29.co/evento/2-samuel-1213-31/
END:VEVENT
BEGIN:VEVENT
DTSTART;VALUE=DATE:20240610
DTEND;VALUE=DATE:20240611
DTSTAMP:20260423T041714
CREATED:20240506T012534Z
LAST-MODIFIED:20240506T012534Z
UID:17409-1717977600-1718063999@hechos29.co
SUMMARY:Hechos 23:1-11
DESCRIPTION:
URL:https://hechos29.co/evento/hechos-231-11/
END:VEVENT
BEGIN:VEVENT
DTSTART;VALUE=DATE:20240611
DTEND;VALUE=DATE:20240612
DTSTAMP:20260423T041714
CREATED:20240506T012639Z
LAST-MODIFIED:20240506T012639Z
UID:17412-1718064000-1718150399@hechos29.co
SUMMARY:Hechos 23:12-22
DESCRIPTION:
URL:https://hechos29.co/evento/hechos-2312-22/
END:VEVENT
BEGIN:VEVENT
DTSTART;VALUE=DATE:20240612
DTEND;VALUE=DATE:20240613
DTSTAMP:20260423T041714
CREATED:20240506T012712Z
LAST-MODIFIED:20240506T012712Z
UID:17414-1718150400-1718236799@hechos29.co
SUMMARY:Hechos 23:23-35
DESCRIPTION:
URL:https://hechos29.co/evento/hechos-2323-35/
END:VEVENT
BEGIN:VEVENT
DTSTART;VALUE=DATE:20240613
DTEND;VALUE=DATE:20240614
DTSTAMP:20260423T041714
CREATED:20240506T012803Z
LAST-MODIFIED:20240506T012803Z
UID:17416-1718236800-1718323199@hechos29.co
SUMMARY:Hechos 24:1-16
DESCRIPTION:
URL:https://hechos29.co/evento/hechos-241-16/
END:VEVENT
BEGIN:VEVENT
DTSTART;VALUE=DATE:20240614
DTEND;VALUE=DATE:20240615
DTSTAMP:20260423T041714
CREATED:20240506T012836Z
LAST-MODIFIED:20240506T012836Z
UID:17418-1718323200-1718409599@hechos29.co
SUMMARY:Hechos 24:17-27
DESCRIPTION:
URL:https://hechos29.co/evento/hechos-2417-27/
END:VEVENT
BEGIN:VEVENT
DTSTART;VALUE=DATE:20240615
DTEND;VALUE=DATE:20240616
DTSTAMP:20260423T041714
CREATED:20240506T012928Z
LAST-MODIFIED:20240506T012928Z
UID:17420-1718409600-1718495999@hechos29.co
SUMMARY:Hechos 25:1-12
DESCRIPTION:
URL:https://hechos29.co/evento/hechos-251-12/
END:VEVENT
BEGIN:VEVENT
DTSTART;VALUE=DATE:20240616
DTEND;VALUE=DATE:20240617
DTSTAMP:20260423T041714
CREATED:20240506T013002Z
LAST-MODIFIED:20240506T013002Z
UID:17422-1718496000-1718582399@hechos29.co
SUMMARY:Hechos 25:13-27
DESCRIPTION:
URL:https://hechos29.co/evento/hechos-2513-27/
END:VEVENT
BEGIN:VEVENT
DTSTART;VALUE=DATE:20240617
DTEND;VALUE=DATE:20240618
DTSTAMP:20260423T041714
CREATED:20240506T013153Z
LAST-MODIFIED:20240506T013153Z
UID:17425-1718582400-1718668799@hechos29.co
SUMMARY:2 Samuel 13:1-22
DESCRIPTION:
URL:https://hechos29.co/evento/2-samuel-131-22/
END:VEVENT
BEGIN:VEVENT
DTSTART;VALUE=DATE:20240618
DTEND;VALUE=DATE:20240619
DTSTAMP:20260423T041714
CREATED:20240506T013221Z
LAST-MODIFIED:20240506T013221Z
UID:17427-1718668800-1718755199@hechos29.co
SUMMARY:2 Samuel 13:23-39
DESCRIPTION:
URL:https://hechos29.co/evento/2-samuel-1323-39/
END:VEVENT
BEGIN:VEVENT
DTSTART;VALUE=DATE:20240619
DTEND;VALUE=DATE:20240620
DTSTAMP:20260423T041714
CREATED:20240506T013250Z
LAST-MODIFIED:20240506T013250Z
UID:17429-1718755200-1718841599@hechos29.co
SUMMARY:2 Samuel 14:1-24
DESCRIPTION:
URL:https://hechos29.co/evento/2-samuel-141-24/
END:VEVENT
BEGIN:VEVENT
DTSTART;VALUE=DATE:20240620
DTEND;VALUE=DATE:20240621
DTSTAMP:20260423T041714
CREATED:20240506T013321Z
LAST-MODIFIED:20240506T013321Z
UID:17431-1718841600-1718927999@hechos29.co
SUMMARY:2 Samuel 14:25-33
DESCRIPTION:
URL:https://hechos29.co/evento/2-samuel-1425-33/
END:VEVENT
BEGIN:VEVENT
DTSTART;VALUE=DATE:20240621
DTEND;VALUE=DATE:20240622
DTSTAMP:20260423T041714
CREATED:20240506T013353Z
LAST-MODIFIED:20240506T013353Z
UID:17433-1718928000-1719014399@hechos29.co
SUMMARY:2 Samuel 15:1-12
DESCRIPTION:
URL:https://hechos29.co/evento/2-samuel-151-12/
END:VEVENT
BEGIN:VEVENT
DTSTART;VALUE=DATE:20240622
DTEND;VALUE=DATE:20240623
DTSTAMP:20260423T041714
CREATED:20240506T013436Z
LAST-MODIFIED:20240506T013436Z
UID:17435-1719014400-1719100799@hechos29.co
SUMMARY:2 Samuel 15:13-37
DESCRIPTION:
URL:https://hechos29.co/evento/2-samuel-1513-37/
END:VEVENT
END:VCALENDAR