BEGIN:VCALENDAR
VERSION:2.0
PRODID:-//Hechos 29 - ECPv6.15.20//NONSGML v1.0//EN
CALSCALE:GREGORIAN
METHOD:PUBLISH
X-WR-CALNAME:Hechos 29
X-ORIGINAL-URL:https://hechos29.co
X-WR-CALDESC:Eventos para Hechos 29
REFRESH-INTERVAL;VALUE=DURATION:PT1H
X-Robots-Tag:noindex
X-PUBLISHED-TTL:PT1H
BEGIN:VTIMEZONE
TZID:America/Bogota
BEGIN:STANDARD
TZOFFSETFROM:-0500
TZOFFSETTO:-0500
TZNAME:-05
DTSTART:20230101T000000
END:STANDARD
END:VTIMEZONE
BEGIN:VEVENT
DTSTART;VALUE=DATE:20240706
DTEND;VALUE=DATE:20240707
DTSTAMP:20260422T171256
CREATED:20240508T163806Z
LAST-MODIFIED:20240508T163806Z
UID:17469-1720224000-1720310399@hechos29.co
SUMMARY:2 Samuel 19:1-14
DESCRIPTION:
URL:https://hechos29.co/evento/2-samuel-191-14/
END:VEVENT
BEGIN:VEVENT
DTSTART;VALUE=DATE:20240707
DTEND;VALUE=DATE:20240708
DTSTAMP:20260422T171256
CREATED:20240508T163852Z
LAST-MODIFIED:20240508T163852Z
UID:17471-1720310400-1720396799@hechos29.co
SUMMARY:2 Samuel 19:15-30
DESCRIPTION:
URL:https://hechos29.co/evento/2-samuel-1915-30/
END:VEVENT
BEGIN:VEVENT
DTSTART;VALUE=DATE:20240708
DTEND;VALUE=DATE:20240709
DTSTAMP:20260422T171256
CREATED:20240508T163948Z
LAST-MODIFIED:20240508T163948Z
UID:17473-1720396800-1720483199@hechos29.co
SUMMARY:Romanos 1:1-7
DESCRIPTION:
URL:https://hechos29.co/evento/romanos-11-7/
END:VEVENT
BEGIN:VEVENT
DTSTART;VALUE=DATE:20240709
DTEND;VALUE=DATE:20240710
DTSTAMP:20260422T171256
CREATED:20240508T164027Z
LAST-MODIFIED:20240508T164027Z
UID:17475-1720483200-1720569599@hechos29.co
SUMMARY:Romanos 1:8-17
DESCRIPTION:
URL:https://hechos29.co/evento/romanos-18-17/
END:VEVENT
BEGIN:VEVENT
DTSTART;VALUE=DATE:20240710
DTEND;VALUE=DATE:20240711
DTSTAMP:20260422T171256
CREATED:20240508T164119Z
LAST-MODIFIED:20240508T164119Z
UID:17477-1720569600-1720655999@hechos29.co
SUMMARY:Romanos 1:18-32
DESCRIPTION:
URL:https://hechos29.co/evento/romanos-118-32/
END:VEVENT
BEGIN:VEVENT
DTSTART;VALUE=DATE:20240711
DTEND;VALUE=DATE:20240712
DTSTAMP:20260422T171256
CREATED:20240508T164218Z
LAST-MODIFIED:20240508T164218Z
UID:17479-1720656000-1720742399@hechos29.co
SUMMARY:Romanos 2:1-16
DESCRIPTION:
URL:https://hechos29.co/evento/romanos-21-16/
END:VEVENT
BEGIN:VEVENT
DTSTART;VALUE=DATE:20240712
DTEND;VALUE=DATE:20240713
DTSTAMP:20260422T171256
CREATED:20240508T164254Z
LAST-MODIFIED:20240508T164254Z
UID:17481-1720742400-1720828799@hechos29.co
SUMMARY:Romanos 2:17-29
DESCRIPTION:
URL:https://hechos29.co/evento/romanos-217-29/
END:VEVENT
BEGIN:VEVENT
DTSTART;VALUE=DATE:20240713
DTEND;VALUE=DATE:20240714
DTSTAMP:20260422T171256
CREATED:20240508T164332Z
LAST-MODIFIED:20240508T164332Z
UID:17483-1720828800-1720915199@hechos29.co
SUMMARY:Romanos 3:1-8
DESCRIPTION:
URL:https://hechos29.co/evento/romanos-31-8/
END:VEVENT
BEGIN:VEVENT
DTSTART;VALUE=DATE:20240714
DTEND;VALUE=DATE:20240715
DTSTAMP:20260422T171256
CREATED:20240508T164414Z
LAST-MODIFIED:20240508T164414Z
UID:17485-1720915200-1721001599@hechos29.co
SUMMARY:Romanos 3:9-20
DESCRIPTION:
URL:https://hechos29.co/evento/romanos-39-20/
END:VEVENT
BEGIN:VEVENT
DTSTART;VALUE=DATE:20240715
DTEND;VALUE=DATE:20240716
DTSTAMP:20260422T171256
CREATED:20240508T164517Z
LAST-MODIFIED:20240508T164517Z
UID:17487-1721001600-1721087999@hechos29.co
SUMMARY:2 Samuel 19:31-43
DESCRIPTION:
URL:https://hechos29.co/evento/2-samuel-1931-43/
END:VEVENT
BEGIN:VEVENT
DTSTART;VALUE=DATE:20240716
DTEND;VALUE=DATE:20240717
DTSTAMP:20260422T171256
CREATED:20240508T164627Z
LAST-MODIFIED:20240508T164627Z
UID:17489-1721088000-1721174399@hechos29.co
SUMMARY:2 Samuel 20:1-26
DESCRIPTION:
URL:https://hechos29.co/evento/2-samuel-201-26/
END:VEVENT
BEGIN:VEVENT
DTSTART;VALUE=DATE:20240717
DTEND;VALUE=DATE:20240718
DTSTAMP:20260422T171256
CREATED:20240508T164718Z
LAST-MODIFIED:20240508T164743Z
UID:17491-1721174400-1721260799@hechos29.co
SUMMARY:2 Samuel 21:1-14
DESCRIPTION:
URL:https://hechos29.co/evento/2-samuel-211-14/
END:VEVENT
BEGIN:VEVENT
DTSTART;VALUE=DATE:20240718
DTEND;VALUE=DATE:20240719
DTSTAMP:20260422T171256
CREATED:20240508T164824Z
LAST-MODIFIED:20240508T164824Z
UID:17494-1721260800-1721347199@hechos29.co
SUMMARY:2 Samuel 21:15-22
DESCRIPTION:
URL:https://hechos29.co/evento/2-samuel-2115-22/
END:VEVENT
BEGIN:VEVENT
DTSTART;VALUE=DATE:20240719
DTEND;VALUE=DATE:20240720
DTSTAMP:20260422T171256
CREATED:20240508T164914Z
LAST-MODIFIED:20240508T164914Z
UID:17496-1721347200-1721433599@hechos29.co
SUMMARY:2 Samuel 22:1-30
DESCRIPTION:
URL:https://hechos29.co/evento/2-samuel-221-30/
END:VEVENT
BEGIN:VEVENT
DTSTART;VALUE=DATE:20240720
DTEND;VALUE=DATE:20240721
DTSTAMP:20260422T171256
CREATED:20240508T165005Z
LAST-MODIFIED:20240508T165005Z
UID:17498-1721433600-1721519999@hechos29.co
SUMMARY:2 Samuel 22:31-51
DESCRIPTION:
URL:https://hechos29.co/evento/2-samuel-2231-51/
END:VEVENT
BEGIN:VEVENT
DTSTART;VALUE=DATE:20240721
DTEND;VALUE=DATE:20240722
DTSTAMP:20260422T171256
CREATED:20240508T165048Z
LAST-MODIFIED:20240508T165048Z
UID:17500-1721520000-1721606399@hechos29.co
SUMMARY:2 Samuel 23:1-39
DESCRIPTION:
URL:https://hechos29.co/evento/2-samuel-231-39/
END:VEVENT
BEGIN:VEVENT
DTSTART;VALUE=DATE:20240722
DTEND;VALUE=DATE:20240723
DTSTAMP:20260422T171256
CREATED:20240508T165147Z
LAST-MODIFIED:20240508T165147Z
UID:17502-1721606400-1721692799@hechos29.co
SUMMARY:Romanos 3:21-31
DESCRIPTION:
URL:https://hechos29.co/evento/romanos-321-31/
END:VEVENT
BEGIN:VEVENT
DTSTART;VALUE=DATE:20240723
DTEND;VALUE=DATE:20240724
DTSTAMP:20260422T171256
CREATED:20240508T165225Z
LAST-MODIFIED:20240508T165225Z
UID:17504-1721692800-1721779199@hechos29.co
SUMMARY:Romanos 4:1-12
DESCRIPTION:
URL:https://hechos29.co/evento/romanos-41-12/
END:VEVENT
BEGIN:VEVENT
DTSTART;VALUE=DATE:20240724
DTEND;VALUE=DATE:20240725
DTSTAMP:20260422T171256
CREATED:20240508T165310Z
LAST-MODIFIED:20240508T165310Z
UID:17506-1721779200-1721865599@hechos29.co
SUMMARY:Romanos 4:13-25
DESCRIPTION:
URL:https://hechos29.co/evento/romanos-413-25/
END:VEVENT
BEGIN:VEVENT
DTSTART;VALUE=DATE:20240725
DTEND;VALUE=DATE:20240726
DTSTAMP:20260422T171256
CREATED:20240508T165351Z
LAST-MODIFIED:20240508T165351Z
UID:17508-1721865600-1721951999@hechos29.co
SUMMARY:Romanos 5:1-11
DESCRIPTION:
URL:https://hechos29.co/evento/romanos-51-11/
END:VEVENT
BEGIN:VEVENT
DTSTART;VALUE=DATE:20240726
DTEND;VALUE=DATE:20240727
DTSTAMP:20260422T171256
CREATED:20240508T165431Z
LAST-MODIFIED:20240508T165431Z
UID:17510-1721952000-1722038399@hechos29.co
SUMMARY:Romanos 5:12-21
DESCRIPTION:
URL:https://hechos29.co/evento/romanos-512-21/
END:VEVENT
BEGIN:VEVENT
DTSTART;VALUE=DATE:20240727
DTEND;VALUE=DATE:20240728
DTSTAMP:20260422T171256
CREATED:20240508T165607Z
LAST-MODIFIED:20240508T165607Z
UID:17512-1722038400-1722124799@hechos29.co
SUMMARY:Romanos 6:1-14
DESCRIPTION:
URL:https://hechos29.co/evento/romanos-61-14/
END:VEVENT
BEGIN:VEVENT
DTSTART;VALUE=DATE:20240728
DTEND;VALUE=DATE:20240729
DTSTAMP:20260422T171256
CREATED:20240508T165703Z
LAST-MODIFIED:20240508T165703Z
UID:17514-1722124800-1722211199@hechos29.co
SUMMARY:Romanos 6:15-23
DESCRIPTION:
URL:https://hechos29.co/evento/romanos-615-23/
END:VEVENT
BEGIN:VEVENT
DTSTART;VALUE=DATE:20240729
DTEND;VALUE=DATE:20240730
DTSTAMP:20260422T171256
CREATED:20240508T165911Z
LAST-MODIFIED:20240508T165911Z
UID:17516-1722211200-1722297599@hechos29.co
SUMMARY:2 Samuel 24:1-9
DESCRIPTION:
URL:https://hechos29.co/evento/2-samuel-241-9/
END:VEVENT
BEGIN:VEVENT
DTSTART;VALUE=DATE:20240730
DTEND;VALUE=DATE:20240731
DTSTAMP:20260422T171256
CREATED:20240508T170051Z
LAST-MODIFIED:20240508T170051Z
UID:17518-1722297600-1722383999@hechos29.co
SUMMARY:2 Samuel 24:10-17
DESCRIPTION:
URL:https://hechos29.co/evento/2-samuel-2410-17/
END:VEVENT
BEGIN:VEVENT
DTSTART;VALUE=DATE:20240731
DTEND;VALUE=DATE:20240801
DTSTAMP:20260422T171256
CREATED:20240508T170219Z
LAST-MODIFIED:20240508T170219Z
UID:17520-1722384000-1722470399@hechos29.co
SUMMARY:2 Samuel 24:18-25
DESCRIPTION:
URL:https://hechos29.co/evento/2-samuel-2418-25/
END:VEVENT
BEGIN:VEVENT
DTSTART;VALUE=DATE:20240801
DTEND;VALUE=DATE:20240802
DTSTAMP:20260422T171256
CREATED:20240508T170356Z
LAST-MODIFIED:20240508T170356Z
UID:17522-1722470400-1722556799@hechos29.co
SUMMARY:Romanos 7:1-6
DESCRIPTION:
URL:https://hechos29.co/evento/romanos-71-6/
END:VEVENT
BEGIN:VEVENT
DTSTART;VALUE=DATE:20240802
DTEND;VALUE=DATE:20240803
DTSTAMP:20260422T171256
CREATED:20240508T170503Z
LAST-MODIFIED:20240508T170503Z
UID:17524-1722556800-1722643199@hechos29.co
SUMMARY:Romanos 7:7-13
DESCRIPTION:
URL:https://hechos29.co/evento/romanos-77-13/
END:VEVENT
BEGIN:VEVENT
DTSTART;VALUE=DATE:20240803
DTEND;VALUE=DATE:20240804
DTSTAMP:20260422T171256
CREATED:20240508T170651Z
LAST-MODIFIED:20240508T170651Z
UID:17526-1722643200-1722729599@hechos29.co
SUMMARY:Romanos 7:14-25
DESCRIPTION:
URL:https://hechos29.co/evento/romanos-714-25/
END:VEVENT
BEGIN:VEVENT
DTSTART;VALUE=DATE:20240804
DTEND;VALUE=DATE:20240805
DTSTAMP:20260422T171256
CREATED:20240508T170733Z
LAST-MODIFIED:20240508T170733Z
UID:17528-1722729600-1722815999@hechos29.co
SUMMARY:Romanos 8:1-17
DESCRIPTION:
URL:https://hechos29.co/evento/romanos-81-17/
END:VEVENT
END:VCALENDAR