BEGIN:VCALENDAR
VERSION:2.0
PRODID:-//Hechos 29 - ECPv6.15.20//NONSGML v1.0//EN
CALSCALE:GREGORIAN
METHOD:PUBLISH
X-WR-CALNAME:Hechos 29
X-ORIGINAL-URL:https://hechos29.co
X-WR-CALDESC:Eventos para Hechos 29
REFRESH-INTERVAL;VALUE=DURATION:PT1H
X-Robots-Tag:noindex
X-PUBLISHED-TTL:PT1H
BEGIN:VTIMEZONE
TZID:America/Bogota
BEGIN:STANDARD
TZOFFSETFROM:-0500
TZOFFSETTO:-0500
TZNAME:-05
DTSTART:20230101T000000
END:STANDARD
END:VTIMEZONE
BEGIN:VEVENT
DTSTART;VALUE=DATE:20240727
DTEND;VALUE=DATE:20240728
DTSTAMP:20260423T041601
CREATED:20240508T165607Z
LAST-MODIFIED:20240508T165607Z
UID:17512-1722038400-1722124799@hechos29.co
SUMMARY:Romanos 6:1-14
DESCRIPTION:
URL:https://hechos29.co/evento/romanos-61-14/
END:VEVENT
BEGIN:VEVENT
DTSTART;VALUE=DATE:20240728
DTEND;VALUE=DATE:20240729
DTSTAMP:20260423T041601
CREATED:20240508T165703Z
LAST-MODIFIED:20240508T165703Z
UID:17514-1722124800-1722211199@hechos29.co
SUMMARY:Romanos 6:15-23
DESCRIPTION:
URL:https://hechos29.co/evento/romanos-615-23/
END:VEVENT
BEGIN:VEVENT
DTSTART;VALUE=DATE:20240729
DTEND;VALUE=DATE:20240730
DTSTAMP:20260423T041601
CREATED:20240508T165911Z
LAST-MODIFIED:20240508T165911Z
UID:17516-1722211200-1722297599@hechos29.co
SUMMARY:2 Samuel 24:1-9
DESCRIPTION:
URL:https://hechos29.co/evento/2-samuel-241-9/
END:VEVENT
BEGIN:VEVENT
DTSTART;VALUE=DATE:20240730
DTEND;VALUE=DATE:20240731
DTSTAMP:20260423T041601
CREATED:20240508T170051Z
LAST-MODIFIED:20240508T170051Z
UID:17518-1722297600-1722383999@hechos29.co
SUMMARY:2 Samuel 24:10-17
DESCRIPTION:
URL:https://hechos29.co/evento/2-samuel-2410-17/
END:VEVENT
BEGIN:VEVENT
DTSTART;VALUE=DATE:20240731
DTEND;VALUE=DATE:20240801
DTSTAMP:20260423T041601
CREATED:20240508T170219Z
LAST-MODIFIED:20240508T170219Z
UID:17520-1722384000-1722470399@hechos29.co
SUMMARY:2 Samuel 24:18-25
DESCRIPTION:
URL:https://hechos29.co/evento/2-samuel-2418-25/
END:VEVENT
BEGIN:VEVENT
DTSTART;VALUE=DATE:20240801
DTEND;VALUE=DATE:20240802
DTSTAMP:20260423T041601
CREATED:20240508T170356Z
LAST-MODIFIED:20240508T170356Z
UID:17522-1722470400-1722556799@hechos29.co
SUMMARY:Romanos 7:1-6
DESCRIPTION:
URL:https://hechos29.co/evento/romanos-71-6/
END:VEVENT
BEGIN:VEVENT
DTSTART;VALUE=DATE:20240802
DTEND;VALUE=DATE:20240803
DTSTAMP:20260423T041601
CREATED:20240508T170503Z
LAST-MODIFIED:20240508T170503Z
UID:17524-1722556800-1722643199@hechos29.co
SUMMARY:Romanos 7:7-13
DESCRIPTION:
URL:https://hechos29.co/evento/romanos-77-13/
END:VEVENT
BEGIN:VEVENT
DTSTART;VALUE=DATE:20240803
DTEND;VALUE=DATE:20240804
DTSTAMP:20260423T041601
CREATED:20240508T170651Z
LAST-MODIFIED:20240508T170651Z
UID:17526-1722643200-1722729599@hechos29.co
SUMMARY:Romanos 7:14-25
DESCRIPTION:
URL:https://hechos29.co/evento/romanos-714-25/
END:VEVENT
BEGIN:VEVENT
DTSTART;VALUE=DATE:20240804
DTEND;VALUE=DATE:20240805
DTSTAMP:20260423T041601
CREATED:20240508T170733Z
LAST-MODIFIED:20240508T170733Z
UID:17528-1722729600-1722815999@hechos29.co
SUMMARY:Romanos 8:1-17
DESCRIPTION:
URL:https://hechos29.co/evento/romanos-81-17/
END:VEVENT
BEGIN:VEVENT
DTSTART;VALUE=DATE:20240805
DTEND;VALUE=DATE:20240806
DTSTAMP:20260423T041601
CREATED:20240605T203520Z
LAST-MODIFIED:20240605T203520Z
UID:17548-1722816000-1722902399@hechos29.co
SUMMARY:Romanos 8:18-30
DESCRIPTION:
URL:https://hechos29.co/evento/romanos-818-30/
END:VEVENT
BEGIN:VEVENT
DTSTART;VALUE=DATE:20240806
DTEND;VALUE=DATE:20240807
DTSTAMP:20260423T041601
CREATED:20240605T203619Z
LAST-MODIFIED:20240605T203619Z
UID:17550-1722902400-1722988799@hechos29.co
SUMMARY:Romanos 8:31-39
DESCRIPTION:
URL:https://hechos29.co/evento/romanos-831-39/
END:VEVENT
BEGIN:VEVENT
DTSTART;VALUE=DATE:20240807
DTEND;VALUE=DATE:20240808
DTSTAMP:20260423T041601
CREATED:20240605T203653Z
LAST-MODIFIED:20240605T203653Z
UID:17552-1722988800-1723075199@hechos29.co
SUMMARY:Romanos 9:1-18
DESCRIPTION:
URL:https://hechos29.co/evento/romanos-91-18/
END:VEVENT
BEGIN:VEVENT
DTSTART;VALUE=DATE:20240808
DTEND;VALUE=DATE:20240809
DTSTAMP:20260423T041601
CREATED:20240605T203741Z
LAST-MODIFIED:20240605T203741Z
UID:17554-1723075200-1723161599@hechos29.co
SUMMARY:Romanos 9:19-33
DESCRIPTION:
URL:https://hechos29.co/evento/romanos-919-33/
END:VEVENT
BEGIN:VEVENT
DTSTART;VALUE=DATE:20240809
DTEND;VALUE=DATE:20240810
DTSTAMP:20260423T041601
CREATED:20240605T203812Z
LAST-MODIFIED:20240605T203812Z
UID:17556-1723161600-1723247999@hechos29.co
SUMMARY:Romanos 10:1-13
DESCRIPTION:
URL:https://hechos29.co/evento/romanos-101-13/
END:VEVENT
BEGIN:VEVENT
DTSTART;VALUE=DATE:20240810
DTEND;VALUE=DATE:20240811
DTSTAMP:20260423T041601
CREATED:20240605T203852Z
LAST-MODIFIED:20240605T203852Z
UID:17558-1723248000-1723334399@hechos29.co
SUMMARY:Romanos 10:14-21
DESCRIPTION:
URL:https://hechos29.co/evento/romanos-1014-21/
END:VEVENT
BEGIN:VEVENT
DTSTART;VALUE=DATE:20240811
DTEND;VALUE=DATE:20240812
DTSTAMP:20260423T041601
CREATED:20240605T203929Z
LAST-MODIFIED:20240605T203929Z
UID:17560-1723334400-1723420799@hechos29.co
SUMMARY:Romanos 11:1-24
DESCRIPTION:
URL:https://hechos29.co/evento/romanos-111-24/
END:VEVENT
BEGIN:VEVENT
DTSTART;VALUE=DATE:20240812
DTEND;VALUE=DATE:20240813
DTSTAMP:20260423T041601
CREATED:20240605T204013Z
LAST-MODIFIED:20240605T204013Z
UID:17562-1723420800-1723507199@hechos29.co
SUMMARY:1 Reyes 1:1-27
DESCRIPTION:
URL:https://hechos29.co/evento/1-reyes-11-27/
END:VEVENT
BEGIN:VEVENT
DTSTART;VALUE=DATE:20240813
DTEND;VALUE=DATE:20240814
DTSTAMP:20260423T041601
CREATED:20240605T204049Z
LAST-MODIFIED:20240605T204049Z
UID:17564-1723507200-1723593599@hechos29.co
SUMMARY:1 Reyes 1:28-53
DESCRIPTION:
URL:https://hechos29.co/evento/1-reyes-128-53/
END:VEVENT
BEGIN:VEVENT
DTSTART;VALUE=DATE:20240814
DTEND;VALUE=DATE:20240815
DTSTAMP:20260423T041601
CREATED:20240605T204132Z
LAST-MODIFIED:20240605T204132Z
UID:17566-1723593600-1723679999@hechos29.co
SUMMARY:1 Reyes 2:1-12
DESCRIPTION:
URL:https://hechos29.co/evento/1-reyes-21-12/
END:VEVENT
BEGIN:VEVENT
DTSTART;VALUE=DATE:20240815
DTEND;VALUE=DATE:20240816
DTSTAMP:20260423T041601
CREATED:20240605T210743Z
LAST-MODIFIED:20240605T210743Z
UID:17568-1723680000-1723766399@hechos29.co
SUMMARY:1 Reyes 2:13-27
DESCRIPTION:
URL:https://hechos29.co/evento/1-reyes-213-27/
END:VEVENT
BEGIN:VEVENT
DTSTART;VALUE=DATE:20240816
DTEND;VALUE=DATE:20240817
DTSTAMP:20260423T041601
CREATED:20240605T210834Z
LAST-MODIFIED:20240605T210834Z
UID:17570-1723766400-1723852799@hechos29.co
SUMMARY:1 Reyes 2:28-35
DESCRIPTION:
URL:https://hechos29.co/evento/1-reyes-228-35/
END:VEVENT
BEGIN:VEVENT
DTSTART;VALUE=DATE:20240817
DTEND;VALUE=DATE:20240818
DTSTAMP:20260423T041602
CREATED:20240605T210923Z
LAST-MODIFIED:20240605T210923Z
UID:17572-1723852800-1723939199@hechos29.co
SUMMARY:1 Reyes 2:36-46
DESCRIPTION:
URL:https://hechos29.co/evento/1-reyes-236-46/
END:VEVENT
BEGIN:VEVENT
DTSTART;VALUE=DATE:20240818
DTEND;VALUE=DATE:20240819
DTSTAMP:20260423T041602
CREATED:20240605T211027Z
LAST-MODIFIED:20240605T211027Z
UID:17574-1723939200-1724025599@hechos29.co
SUMMARY:1 Reyes 3:1-15
DESCRIPTION:
URL:https://hechos29.co/evento/1-reyes-31-15/
END:VEVENT
BEGIN:VEVENT
DTSTART;VALUE=DATE:20240819
DTEND;VALUE=DATE:20240820
DTSTAMP:20260423T041602
CREATED:20240605T211122Z
LAST-MODIFIED:20240605T211122Z
UID:17576-1724025600-1724111999@hechos29.co
SUMMARY:Romanos 11:25-36
DESCRIPTION:
URL:https://hechos29.co/evento/romanos-1125-36/
END:VEVENT
BEGIN:VEVENT
DTSTART;VALUE=DATE:20240820
DTEND;VALUE=DATE:20240821
DTSTAMP:20260423T041602
CREATED:20240605T211240Z
LAST-MODIFIED:20240605T213709Z
UID:17578-1724112000-1724198399@hechos29.co
SUMMARY:Romanos 12:1-8
DESCRIPTION:
URL:https://hechos29.co/evento/romanos-121-8/
END:VEVENT
BEGIN:VEVENT
DTSTART;VALUE=DATE:20240821
DTEND;VALUE=DATE:20240822
DTSTAMP:20260423T041602
CREATED:20240605T211335Z
LAST-MODIFIED:20240605T213527Z
UID:17580-1724198400-1724284799@hechos29.co
SUMMARY:Romanos 12:9-21
DESCRIPTION:
URL:https://hechos29.co/evento/romanos-129-21/
END:VEVENT
BEGIN:VEVENT
DTSTART;VALUE=DATE:20240822
DTEND;VALUE=DATE:20240823
DTSTAMP:20260423T041602
CREATED:20240605T211451Z
LAST-MODIFIED:20240605T211451Z
UID:17582-1724284800-1724371199@hechos29.co
SUMMARY:Romanos 13:1-14
DESCRIPTION:
URL:https://hechos29.co/evento/romanos-131-14/
END:VEVENT
BEGIN:VEVENT
DTSTART;VALUE=DATE:20240823
DTEND;VALUE=DATE:20240824
DTSTAMP:20260423T041602
CREATED:20240605T211522Z
LAST-MODIFIED:20240605T211522Z
UID:17584-1724371200-1724457599@hechos29.co
SUMMARY:Romanos 14:1-9
DESCRIPTION:
URL:https://hechos29.co/evento/romanos-141-9/
END:VEVENT
BEGIN:VEVENT
DTSTART;VALUE=DATE:20240824
DTEND;VALUE=DATE:20240825
DTSTAMP:20260423T041602
CREATED:20240605T211554Z
LAST-MODIFIED:20240605T211554Z
UID:17586-1724457600-1724543999@hechos29.co
SUMMARY:Romanos 14:10-23
DESCRIPTION:
URL:https://hechos29.co/evento/romanos-1410-23/
END:VEVENT
BEGIN:VEVENT
DTSTART;VALUE=DATE:20240825
DTEND;VALUE=DATE:20240826
DTSTAMP:20260423T041602
CREATED:20240605T211640Z
LAST-MODIFIED:20240605T211640Z
UID:17588-1724544000-1724630399@hechos29.co
SUMMARY:Romanos 15:1-13
DESCRIPTION:
URL:https://hechos29.co/evento/romanos-151-13/
END:VEVENT
END:VCALENDAR