BEGIN:VCALENDAR
VERSION:2.0
PRODID:-//Hechos 29 - ECPv6.15.20//NONSGML v1.0//EN
CALSCALE:GREGORIAN
METHOD:PUBLISH
X-WR-CALNAME:Hechos 29
X-ORIGINAL-URL:https://hechos29.co
X-WR-CALDESC:Eventos para Hechos 29
REFRESH-INTERVAL;VALUE=DURATION:PT1H
X-Robots-Tag:noindex
X-PUBLISHED-TTL:PT1H
BEGIN:VTIMEZONE
TZID:America/Bogota
BEGIN:STANDARD
TZOFFSETFROM:-0500
TZOFFSETTO:-0500
TZNAME:-05
DTSTART:20230101T000000
END:STANDARD
END:VTIMEZONE
BEGIN:VEVENT
DTSTART;VALUE=DATE:20241130
DTEND;VALUE=DATE:20241201
DTSTAMP:20260422T142730
CREATED:20240917T221050Z
LAST-MODIFIED:20240917T221050Z
UID:17881-1732924800-1733011199@hechos29.co
SUMMARY:1 Tesalonisenses 5:1-11
DESCRIPTION:
URL:https://hechos29.co/evento/1-tesalonisenses-51-11/
END:VEVENT
BEGIN:VEVENT
DTSTART;VALUE=DATE:20241201
DTEND;VALUE=DATE:20241202
DTSTAMP:20260422T142730
CREATED:20240917T221217Z
LAST-MODIFIED:20240917T221217Z
UID:17883-1733011200-1733097599@hechos29.co
SUMMARY:1 Tesalonisenses 5:12-28
DESCRIPTION:
URL:https://hechos29.co/evento/1-tesalonisenses-512-28/
END:VEVENT
BEGIN:VEVENT
DTSTART;VALUE=DATE:20241201
DTEND;VALUE=DATE:20241202
DTSTAMP:20260422T142730
CREATED:20241120T230923Z
LAST-MODIFIED:20241120T230923Z
UID:17983-1733011200-1733097599@hechos29.co
SUMMARY:1 Tesalonisenses 5:12-28
DESCRIPTION:
URL:https://hechos29.co/evento/1-tesalonisenses-512-28-2/
END:VEVENT
BEGIN:VEVENT
DTSTART;VALUE=DATE:20241202
DTEND;VALUE=DATE:20241203
DTSTAMP:20260422T142730
CREATED:20241120T231051Z
LAST-MODIFIED:20241120T231051Z
UID:17985-1733097600-1733183999@hechos29.co
SUMMARY:1 Reyes 20:1-12
DESCRIPTION:
URL:https://hechos29.co/evento/1-reyes-201-12/
END:VEVENT
BEGIN:VEVENT
DTSTART;VALUE=DATE:20241203
DTEND;VALUE=DATE:20241204
DTSTAMP:20260422T142730
CREATED:20241120T231131Z
LAST-MODIFIED:20241120T231131Z
UID:17987-1733184000-1733270399@hechos29.co
SUMMARY:1 Reyes 20:13-22
DESCRIPTION:
URL:https://hechos29.co/evento/1-reyes-2013-22/
END:VEVENT
BEGIN:VEVENT
DTSTART;VALUE=DATE:20241204
DTEND;VALUE=DATE:20241205
DTSTAMP:20260422T142730
CREATED:20241120T231211Z
LAST-MODIFIED:20241120T231211Z
UID:17989-1733270400-1733356799@hechos29.co
SUMMARY:1 Reyes 20:23-34
DESCRIPTION:
URL:https://hechos29.co/evento/1-reyes-2023-34/
END:VEVENT
BEGIN:VEVENT
DTSTART;VALUE=DATE:20241205
DTEND;VALUE=DATE:20241206
DTSTAMP:20260422T142730
CREATED:20241120T231305Z
LAST-MODIFIED:20241120T231305Z
UID:17991-1733356800-1733443199@hechos29.co
SUMMARY:1 Reyes 20:35-43
DESCRIPTION:
URL:https://hechos29.co/evento/1-reyes-2035-43/
END:VEVENT
BEGIN:VEVENT
DTSTART;VALUE=DATE:20241206
DTEND;VALUE=DATE:20241207
DTSTAMP:20260422T142730
CREATED:20241120T231401Z
LAST-MODIFIED:20241120T231401Z
UID:17993-1733443200-1733529599@hechos29.co
SUMMARY:1 Reyes 21:1-19
DESCRIPTION:
URL:https://hechos29.co/evento/1-reyes-211-19/
END:VEVENT
BEGIN:VEVENT
DTSTART;VALUE=DATE:20241207
DTEND;VALUE=DATE:20241208
DTSTAMP:20260422T142730
CREATED:20241120T231454Z
LAST-MODIFIED:20241120T231454Z
UID:17995-1733529600-1733615999@hechos29.co
SUMMARY:1 Reyes 21:20-29
DESCRIPTION:
URL:https://hechos29.co/evento/1-reyes-2120-29/
END:VEVENT
BEGIN:VEVENT
DTSTART;VALUE=DATE:20241208
DTEND;VALUE=DATE:20241209
DTSTAMP:20260422T142730
CREATED:20241120T231549Z
LAST-MODIFIED:20241120T231549Z
UID:17997-1733616000-1733702399@hechos29.co
SUMMARY:1 Reyes 22:1-9
DESCRIPTION:
URL:https://hechos29.co/evento/1-reyes-221-9/
END:VEVENT
BEGIN:VEVENT
DTSTART;VALUE=DATE:20241209
DTEND;VALUE=DATE:20241210
DTSTAMP:20260422T142730
CREATED:20241120T231638Z
LAST-MODIFIED:20241120T231639Z
UID:17999-1733702400-1733788799@hechos29.co
SUMMARY:2 Tesalonisenses 1:1-12
DESCRIPTION:
URL:https://hechos29.co/evento/2-tesalonisenses-11-12/
END:VEVENT
BEGIN:VEVENT
DTSTART;VALUE=DATE:20241210
DTEND;VALUE=DATE:20241211
DTSTAMP:20260422T142730
CREATED:20241120T231718Z
LAST-MODIFIED:20241120T231718Z
UID:18001-1733788800-1733875199@hechos29.co
SUMMARY:2 Tesalonisenses 2:1-12
DESCRIPTION:
URL:https://hechos29.co/evento/2-tesalonisenses-21-12/
END:VEVENT
BEGIN:VEVENT
DTSTART;VALUE=DATE:20241211
DTEND;VALUE=DATE:20241212
DTSTAMP:20260422T142730
CREATED:20241120T231758Z
LAST-MODIFIED:20241120T231758Z
UID:18003-1733875200-1733961599@hechos29.co
SUMMARY:2 Tesalonisenses 2:13-3:5
DESCRIPTION:
URL:https://hechos29.co/evento/2-tesalonisenses-213-35/
END:VEVENT
BEGIN:VEVENT
DTSTART;VALUE=DATE:20241212
DTEND;VALUE=DATE:20241213
DTSTAMP:20260422T142730
CREATED:20241120T231903Z
LAST-MODIFIED:20241120T231903Z
UID:18005-1733961600-1734047999@hechos29.co
SUMMARY:2 Tesalonisenses 3:6-17
DESCRIPTION:
URL:https://hechos29.co/evento/2-tesalonisenses-36-17/
END:VEVENT
BEGIN:VEVENT
DTSTART;VALUE=DATE:20241213
DTEND;VALUE=DATE:20241214
DTSTAMP:20260422T142730
CREATED:20241120T232004Z
LAST-MODIFIED:20241120T232004Z
UID:18007-1734048000-1734134399@hechos29.co
SUMMARY:Salmos 88:1-18
DESCRIPTION:
URL:https://hechos29.co/evento/salmos-881-18/
END:VEVENT
BEGIN:VEVENT
DTSTART;VALUE=DATE:20241214
DTEND;VALUE=DATE:20241215
DTSTAMP:20260422T142730
CREATED:20241120T232043Z
LAST-MODIFIED:20241120T232043Z
UID:18009-1734134400-1734220799@hechos29.co
SUMMARY:Salmos 89:1-18
DESCRIPTION:
URL:https://hechos29.co/evento/salmos-891-18/
END:VEVENT
BEGIN:VEVENT
DTSTART;VALUE=DATE:20241215
DTEND;VALUE=DATE:20241216
DTSTAMP:20260422T142730
CREATED:20241120T232121Z
LAST-MODIFIED:20241120T232121Z
UID:18011-1734220800-1734307199@hechos29.co
SUMMARY:Salmos 89:19-37
DESCRIPTION:
URL:https://hechos29.co/evento/salmos-8919-37/
END:VEVENT
BEGIN:VEVENT
DTSTART;VALUE=DATE:20241216
DTEND;VALUE=DATE:20241217
DTSTAMP:20260422T142730
CREATED:20241120T232210Z
LAST-MODIFIED:20241120T232210Z
UID:18013-1734307200-1734393599@hechos29.co
SUMMARY:Miqueas 5:1-6
DESCRIPTION:
URL:https://hechos29.co/evento/miqueas-51-6-2/
END:VEVENT
BEGIN:VEVENT
DTSTART;VALUE=DATE:20241217
DTEND;VALUE=DATE:20241218
DTSTAMP:20260422T142730
CREATED:20241120T232259Z
LAST-MODIFIED:20241120T232259Z
UID:18015-1734393600-1734479999@hechos29.co
SUMMARY:Lucas 1:26-33
DESCRIPTION:
URL:https://hechos29.co/evento/lucas-126-33/
END:VEVENT
BEGIN:VEVENT
DTSTART;VALUE=DATE:20241218
DTEND;VALUE=DATE:20241219
DTSTAMP:20260422T142730
CREATED:20241120T232343Z
LAST-MODIFIED:20241120T232343Z
UID:18017-1734480000-1734566399@hechos29.co
SUMMARY:Mateo 1:18-24
DESCRIPTION:
URL:https://hechos29.co/evento/mateo-118-24-2/
END:VEVENT
BEGIN:VEVENT
DTSTART;VALUE=DATE:20241219
DTEND;VALUE=DATE:20241220
DTSTAMP:20260422T142730
CREATED:20241120T232504Z
LAST-MODIFIED:20241120T232504Z
UID:18019-1734566400-1734652799@hechos29.co
SUMMARY:Lucas  1:34-38
DESCRIPTION:
URL:https://hechos29.co/evento/lucas-134-38/
END:VEVENT
BEGIN:VEVENT
DTSTART;VALUE=DATE:20241220
DTEND;VALUE=DATE:20241221
DTSTAMP:20260422T142730
CREATED:20241120T233023Z
LAST-MODIFIED:20241120T233023Z
UID:18022-1734652800-1734739199@hechos29.co
SUMMARY:Lucas 1:39-45
DESCRIPTION:
URL:https://hechos29.co/evento/lucas-139-45-2/
END:VEVENT
BEGIN:VEVENT
DTSTART;VALUE=DATE:20241221
DTEND;VALUE=DATE:20241222
DTSTAMP:20260422T142730
CREATED:20241120T233105Z
LAST-MODIFIED:20241120T233105Z
UID:18024-1734739200-1734825599@hechos29.co
SUMMARY:Mateo 2:1-6
DESCRIPTION:
URL:https://hechos29.co/evento/mateo-21-6/
END:VEVENT
BEGIN:VEVENT
DTSTART;VALUE=DATE:20241222
DTEND;VALUE=DATE:20241223
DTSTAMP:20260422T142730
CREATED:20241120T233141Z
LAST-MODIFIED:20241120T233141Z
UID:18026-1734825600-1734911999@hechos29.co
SUMMARY:Mateo 2:7-12
DESCRIPTION:
URL:https://hechos29.co/evento/mateo-27-12/
END:VEVENT
BEGIN:VEVENT
DTSTART;VALUE=DATE:20241223
DTEND;VALUE=DATE:20241224
DTSTAMP:20260422T142730
CREATED:20241120T233250Z
LAST-MODIFIED:20241120T233250Z
UID:18028-1734912000-1734998399@hechos29.co
SUMMARY:Lucas  2:8-14
DESCRIPTION:
URL:https://hechos29.co/evento/lucas-28-14/
END:VEVENT
BEGIN:VEVENT
DTSTART;VALUE=DATE:20241224
DTEND;VALUE=DATE:20241225
DTSTAMP:20260422T142730
CREATED:20241120T233323Z
LAST-MODIFIED:20241120T233323Z
UID:18030-1734998400-1735084799@hechos29.co
SUMMARY:Lucas 2:15-20
DESCRIPTION:
URL:https://hechos29.co/evento/lucas-215-20/
END:VEVENT
BEGIN:VEVENT
DTSTART;VALUE=DATE:20241225
DTEND;VALUE=DATE:20241226
DTSTAMP:20260422T142730
CREATED:20241120T235516Z
LAST-MODIFIED:20241120T235516Z
UID:18032-1735084800-1735171199@hechos29.co
SUMMARY:Salmos 89:38-52
DESCRIPTION:
URL:https://hechos29.co/evento/salmos-8938-52/
END:VEVENT
BEGIN:VEVENT
DTSTART;VALUE=DATE:20241226
DTEND;VALUE=DATE:20241227
DTSTAMP:20260422T142730
CREATED:20241120T235606Z
LAST-MODIFIED:20241120T235606Z
UID:18034-1735171200-1735257599@hechos29.co
SUMMARY:Salmos 90:1-17
DESCRIPTION:
URL:https://hechos29.co/evento/salmos-901-17/
END:VEVENT
BEGIN:VEVENT
DTSTART;VALUE=DATE:20241227
DTEND;VALUE=DATE:20241228
DTSTAMP:20260422T142730
CREATED:20241120T235644Z
LAST-MODIFIED:20241120T235644Z
UID:18036-1735257600-1735343999@hechos29.co
SUMMARY:Salmos 91:1-16
DESCRIPTION:
URL:https://hechos29.co/evento/salmos-911-16/
END:VEVENT
BEGIN:VEVENT
DTSTART;VALUE=DATE:20241228
DTEND;VALUE=DATE:20241229
DTSTAMP:20260422T142730
CREATED:20241120T235809Z
LAST-MODIFIED:20241120T235809Z
UID:18038-1735344000-1735430399@hechos29.co
SUMMARY:Salmos 92:1-15
DESCRIPTION:
URL:https://hechos29.co/evento/salmos-921-15/
END:VEVENT
END:VCALENDAR