BEGIN:VCALENDAR
VERSION:2.0
PRODID:-//Hechos 29 - ECPv6.15.20//NONSGML v1.0//EN
CALSCALE:GREGORIAN
METHOD:PUBLISH
X-ORIGINAL-URL:https://hechos29.co
X-WR-CALDESC:Eventos para Hechos 29
REFRESH-INTERVAL;VALUE=DURATION:PT1H
X-Robots-Tag:noindex
X-PUBLISHED-TTL:PT1H
BEGIN:VTIMEZONE
TZID:America/Bogota
BEGIN:STANDARD
TZOFFSETFROM:-0500
TZOFFSETTO:-0500
TZNAME:-05
DTSTART:20230101T000000
END:STANDARD
END:VTIMEZONE
BEGIN:VEVENT
DTSTART;VALUE=DATE:20240418
DTEND;VALUE=DATE:20240419
DTSTAMP:20260423T153624
CREATED:20240321T154420Z
LAST-MODIFIED:20240321T154420Z
UID:17244-1713398400-1713484799@hechos29.co
SUMMARY:Hechos 12:1-19
DESCRIPTION:
URL:https://hechos29.co/evento/hechos-121-19/
END:VEVENT
BEGIN:VEVENT
DTSTART;VALUE=DATE:20240419
DTEND;VALUE=DATE:20240420
DTSTAMP:20260423T153624
CREATED:20240321T154456Z
LAST-MODIFIED:20240321T154456Z
UID:17246-1713484800-1713571199@hechos29.co
SUMMARY:Hechos 12:20-25
DESCRIPTION:
URL:https://hechos29.co/evento/hechos-1220-25/
END:VEVENT
BEGIN:VEVENT
DTSTART;VALUE=DATE:20240420
DTEND;VALUE=DATE:20240421
DTSTAMP:20260423T153624
CREATED:20240321T154615Z
LAST-MODIFIED:20240321T154615Z
UID:17248-1713571200-1713657599@hechos29.co
SUMMARY:Hechos 13:1-12
DESCRIPTION:
URL:https://hechos29.co/evento/hechos-131-12/
END:VEVENT
BEGIN:VEVENT
DTSTART;VALUE=DATE:20240421
DTEND;VALUE=DATE:20240422
DTSTAMP:20260423T153624
CREATED:20240321T154653Z
LAST-MODIFIED:20240327T220726Z
UID:17250-1713657600-1713743999@hechos29.co
SUMMARY:Hechos 13:13-43
DESCRIPTION:
URL:https://hechos29.co/evento/hechos-1313-42/
END:VEVENT
BEGIN:VEVENT
DTSTART;VALUE=DATE:20240422
DTEND;VALUE=DATE:20240423
DTSTAMP:20260423T153624
CREATED:20240321T154735Z
LAST-MODIFIED:20240321T154735Z
UID:17252-1713744000-1713830399@hechos29.co
SUMMARY:1 Samuel 28:1-15
DESCRIPTION:
URL:https://hechos29.co/evento/1-samuel-281-15/
END:VEVENT
BEGIN:VEVENT
DTSTART;VALUE=DATE:20240423
DTEND;VALUE=DATE:20240424
DTSTAMP:20260423T153624
CREATED:20240321T154811Z
LAST-MODIFIED:20240321T154811Z
UID:17254-1713830400-1713916799@hechos29.co
SUMMARY:1 Samuel 28:16-25
DESCRIPTION:
URL:https://hechos29.co/evento/1-samuel-2816-25/
END:VEVENT
BEGIN:VEVENT
DTSTART;VALUE=DATE:20240424
DTEND;VALUE=DATE:20240425
DTSTAMP:20260423T153624
CREATED:20240321T154845Z
LAST-MODIFIED:20240321T154845Z
UID:17256-1713916800-1714003199@hechos29.co
SUMMARY:1 Samuel 29:1-11
DESCRIPTION:
URL:https://hechos29.co/evento/1-samuel-291-11/
END:VEVENT
BEGIN:VEVENT
DTSTART;VALUE=DATE:20240425
DTEND;VALUE=DATE:20240426
DTSTAMP:20260423T153624
CREATED:20240321T155240Z
LAST-MODIFIED:20240321T155240Z
UID:17258-1714003200-1714089599@hechos29.co
SUMMARY:1 Samuel 30:1-10
DESCRIPTION:
URL:https://hechos29.co/evento/1-samuel-301-10/
END:VEVENT
BEGIN:VEVENT
DTSTART;VALUE=DATE:20240426
DTEND;VALUE=DATE:20240427
DTSTAMP:20260423T153624
CREATED:20240321T155341Z
LAST-MODIFIED:20240321T155341Z
UID:17260-1714089600-1714175999@hechos29.co
SUMMARY:1 Samuel 30:11-31
DESCRIPTION:
URL:https://hechos29.co/evento/1-samuel-3011-31/
END:VEVENT
BEGIN:VEVENT
DTSTART;VALUE=DATE:20240427
DTEND;VALUE=DATE:20240428
DTSTAMP:20260423T153624
CREATED:20240321T155437Z
LAST-MODIFIED:20240321T155437Z
UID:17262-1714176000-1714262399@hechos29.co
SUMMARY:1 Samuel 31:1-13
DESCRIPTION:
URL:https://hechos29.co/evento/1-samuel-311-13/
END:VEVENT
BEGIN:VEVENT
DTSTART;VALUE=DATE:20240428
DTEND;VALUE=DATE:20240429
DTSTAMP:20260423T153624
CREATED:20240321T155544Z
LAST-MODIFIED:20240321T155544Z
UID:17264-1714262400-1714348799@hechos29.co
SUMMARY:Hechos 13:44-52
DESCRIPTION:
URL:https://hechos29.co/evento/hechos-1344-52/
END:VEVENT
BEGIN:VEVENT
DTSTART;VALUE=DATE:20240429
DTEND;VALUE=DATE:20240430
DTSTAMP:20260423T153624
CREATED:20240321T155629Z
LAST-MODIFIED:20240321T155629Z
UID:17266-1714348800-1714435199@hechos29.co
SUMMARY:Hechos 14:1-20
DESCRIPTION:
URL:https://hechos29.co/evento/hechos-141-20/
END:VEVENT
BEGIN:VEVENT
DTSTART;VALUE=DATE:20240430
DTEND;VALUE=DATE:20240501
DTSTAMP:20260423T153624
CREATED:20240321T155712Z
LAST-MODIFIED:20240321T155712Z
UID:17268-1714435200-1714521599@hechos29.co
SUMMARY:Hechos 14:21-28
DESCRIPTION:
URL:https://hechos29.co/evento/hechos-1421-28/
END:VEVENT
BEGIN:VEVENT
DTSTART;VALUE=DATE:20240501
DTEND;VALUE=DATE:20240502
DTSTAMP:20260423T153624
CREATED:20240327T214440Z
LAST-MODIFIED:20240327T214440Z
UID:17274-1714521600-1714607999@hechos29.co
SUMMARY:Hechos 15:1-12
DESCRIPTION:
URL:https://hechos29.co/evento/hechos-151-12/
END:VEVENT
BEGIN:VEVENT
DTSTART;VALUE=DATE:20240502
DTEND;VALUE=DATE:20240503
DTSTAMP:20260423T153624
CREATED:20240327T214520Z
LAST-MODIFIED:20240327T214520Z
UID:17276-1714608000-1714694399@hechos29.co
SUMMARY:Hechos 15:13-21
DESCRIPTION:
URL:https://hechos29.co/evento/hechos-1513-21/
END:VEVENT
BEGIN:VEVENT
DTSTART;VALUE=DATE:20240503
DTEND;VALUE=DATE:20240504
DTSTAMP:20260423T153624
CREATED:20240327T214605Z
LAST-MODIFIED:20240327T214605Z
UID:17278-1714694400-1714780799@hechos29.co
SUMMARY:Hechos 15:22-41
DESCRIPTION:
URL:https://hechos29.co/evento/hechos-1522-41/
END:VEVENT
BEGIN:VEVENT
DTSTART;VALUE=DATE:20240504
DTEND;VALUE=DATE:20240505
DTSTAMP:20260423T153624
CREATED:20240327T214654Z
LAST-MODIFIED:20240327T214654Z
UID:17280-1714780800-1714867199@hechos29.co
SUMMARY:Hechos 16:1-15
DESCRIPTION:
URL:https://hechos29.co/evento/hechos-161-15/
END:VEVENT
BEGIN:VEVENT
DTSTART;VALUE=DATE:20240505
DTEND;VALUE=DATE:20240506
DTSTAMP:20260423T153624
CREATED:20240327T214733Z
LAST-MODIFIED:20240327T214733Z
UID:17282-1714867200-1714953599@hechos29.co
SUMMARY:Hechos 16:16-40
DESCRIPTION:
URL:https://hechos29.co/evento/hechos-1616-40/
END:VEVENT
BEGIN:VEVENT
DTSTART;VALUE=DATE:20240506
DTEND;VALUE=DATE:20240507
DTSTAMP:20260423T153624
CREATED:20240327T214855Z
LAST-MODIFIED:20240327T214855Z
UID:17284-1714953600-1715039999@hechos29.co
SUMMARY:2 Samuel 1:1-16
DESCRIPTION:
URL:https://hechos29.co/evento/2-samuel-11-16/
END:VEVENT
BEGIN:VEVENT
DTSTART;VALUE=DATE:20240507
DTEND;VALUE=DATE:20240508
DTSTAMP:20260423T153624
CREATED:20240327T214932Z
LAST-MODIFIED:20240327T214932Z
UID:17286-1715040000-1715126399@hechos29.co
SUMMARY:2 Samuel 1:17-27
DESCRIPTION:
URL:https://hechos29.co/evento/2-samuel-117-27/
END:VEVENT
BEGIN:VEVENT
DTSTART;VALUE=DATE:20240508
DTEND;VALUE=DATE:20240509
DTSTAMP:20260423T153624
CREATED:20240327T215101Z
LAST-MODIFIED:20240327T215101Z
UID:17288-1715126400-1715212799@hechos29.co
SUMMARY:2 Samuel 2:1-11
DESCRIPTION:
URL:https://hechos29.co/evento/2-samuel-21-11/
END:VEVENT
BEGIN:VEVENT
DTSTART;VALUE=DATE:20240509
DTEND;VALUE=DATE:20240510
DTSTAMP:20260423T153624
CREATED:20240327T215313Z
LAST-MODIFIED:20240327T215313Z
UID:17291-1715212800-1715299199@hechos29.co
SUMMARY:2 Samuel 2:12-32
DESCRIPTION:
URL:https://hechos29.co/evento/2-samuel-212-32/
END:VEVENT
BEGIN:VEVENT
DTSTART;VALUE=DATE:20240510
DTEND;VALUE=DATE:20240511
DTSTAMP:20260423T153624
CREATED:20240327T215356Z
LAST-MODIFIED:20240327T215356Z
UID:17293-1715299200-1715385599@hechos29.co
SUMMARY:2 Samuel 3:1-21
DESCRIPTION:
URL:https://hechos29.co/evento/2-samuel-31-21/
END:VEVENT
BEGIN:VEVENT
DTSTART;VALUE=DATE:20240511
DTEND;VALUE=DATE:20240512
DTSTAMP:20260423T153624
CREATED:20240327T215613Z
LAST-MODIFIED:20240327T215613Z
UID:17295-1715385600-1715471999@hechos29.co
SUMMARY:2 Samuel 3:22-30
DESCRIPTION:
URL:https://hechos29.co/evento/2-samuel-322-30/
END:VEVENT
BEGIN:VEVENT
DTSTART;VALUE=DATE:20240512
DTEND;VALUE=DATE:20240513
DTSTAMP:20260423T153624
CREATED:20240327T215652Z
LAST-MODIFIED:20240327T215652Z
UID:17297-1715472000-1715558399@hechos29.co
SUMMARY:2 Samuel 3:31-39
DESCRIPTION:
URL:https://hechos29.co/evento/2-samuel-331-39/
END:VEVENT
BEGIN:VEVENT
DTSTART;VALUE=DATE:20240513
DTEND;VALUE=DATE:20240514
DTSTAMP:20260423T153624
CREATED:20240327T215807Z
LAST-MODIFIED:20240327T220136Z
UID:17299-1715558400-1715644799@hechos29.co
SUMMARY:Hechos 17:1-15
DESCRIPTION:
URL:https://hechos29.co/evento/hechos-171-15/
END:VEVENT
BEGIN:VEVENT
DTSTART;VALUE=DATE:20240514
DTEND;VALUE=DATE:20240515
DTSTAMP:20260423T153624
CREATED:20240327T221258Z
LAST-MODIFIED:20240327T221258Z
UID:17305-1715644800-1715731199@hechos29.co
SUMMARY:Hechos 17:16-34
DESCRIPTION:
URL:https://hechos29.co/evento/hechos-1716-34/
END:VEVENT
BEGIN:VEVENT
DTSTART;VALUE=DATE:20240515
DTEND;VALUE=DATE:20240516
DTSTAMP:20260423T153624
CREATED:20240327T221408Z
LAST-MODIFIED:20240327T221408Z
UID:17307-1715731200-1715817599@hechos29.co
SUMMARY:Hechos 18:1-17
DESCRIPTION:
URL:https://hechos29.co/evento/hechos-181-17/
END:VEVENT
BEGIN:VEVENT
DTSTART;VALUE=DATE:20240516
DTEND;VALUE=DATE:20240517
DTSTAMP:20260423T153624
CREATED:20240327T221444Z
LAST-MODIFIED:20240327T221444Z
UID:17309-1715817600-1715903999@hechos29.co
SUMMARY:Hechos 18:18-28
DESCRIPTION:
URL:https://hechos29.co/evento/hechos-1818-28/
END:VEVENT
BEGIN:VEVENT
DTSTART;VALUE=DATE:20240517
DTEND;VALUE=DATE:20240518
DTSTAMP:20260423T153624
CREATED:20240327T221546Z
LAST-MODIFIED:20240327T221546Z
UID:17311-1715904000-1715990399@hechos29.co
SUMMARY:Hechos 19:1-7
DESCRIPTION:
URL:https://hechos29.co/evento/hechos-191-7/
END:VEVENT
END:VCALENDAR