BEGIN:VCALENDAR
VERSION:2.0
PRODID:-//Hechos 29 - ECPv6.15.20//NONSGML v1.0//EN
CALSCALE:GREGORIAN
METHOD:PUBLISH
X-ORIGINAL-URL:https://hechos29.co
X-WR-CALDESC:Eventos para Hechos 29
REFRESH-INTERVAL;VALUE=DURATION:PT1H
X-Robots-Tag:noindex
X-PUBLISHED-TTL:PT1H
BEGIN:VTIMEZONE
TZID:America/Bogota
BEGIN:STANDARD
TZOFFSETFROM:-0500
TZOFFSETTO:-0500
TZNAME:-05
DTSTART:20230101T000000
END:STANDARD
END:VTIMEZONE
BEGIN:VEVENT
DTSTART;VALUE=DATE:20241026
DTEND;VALUE=DATE:20241027
DTSTAMP:20260421T142207
CREATED:20240917T213709Z
LAST-MODIFIED:20240917T213709Z
UID:17809-1729900800-1729987199@hechos29.co
SUMMARY:Colosenses 3:18-25
DESCRIPTION:
URL:https://hechos29.co/evento/colosenses-318-25/
END:VEVENT
BEGIN:VEVENT
DTSTART;VALUE=DATE:20241027
DTEND;VALUE=DATE:20241028
DTSTAMP:20260421T142207
CREATED:20240917T213827Z
LAST-MODIFIED:20240917T213827Z
UID:17811-1729987200-1730073599@hechos29.co
SUMMARY:Colosenses 4:1-18
DESCRIPTION:
URL:https://hechos29.co/evento/colosenses-41-18/
END:VEVENT
BEGIN:VEVENT
DTSTART;VALUE=DATE:20241028
DTEND;VALUE=DATE:20241029
DTSTAMP:20260421T142207
CREATED:20240917T213928Z
LAST-MODIFIED:20240917T213928Z
UID:17813-1730073600-1730159999@hechos29.co
SUMMARY:1 Reyes 13:1-10
DESCRIPTION:
URL:https://hechos29.co/evento/1-reyes-131-10/
END:VEVENT
BEGIN:VEVENT
DTSTART;VALUE=DATE:20241029
DTEND;VALUE=DATE:20241030
DTSTAMP:20260421T142207
CREATED:20240917T214005Z
LAST-MODIFIED:20240917T214005Z
UID:17815-1730160000-1730246399@hechos29.co
SUMMARY:1 Reyes 13:11-34
DESCRIPTION:
URL:https://hechos29.co/evento/1-reyes-1311-34/
END:VEVENT
BEGIN:VEVENT
DTSTART;VALUE=DATE:20241030
DTEND;VALUE=DATE:20241031
DTSTAMP:20260421T142207
CREATED:20240917T214038Z
LAST-MODIFIED:20240917T214038Z
UID:17817-1730246400-1730332799@hechos29.co
SUMMARY:1 Reyes 14:1-20
DESCRIPTION:
URL:https://hechos29.co/evento/1-reyes-141-20/
END:VEVENT
BEGIN:VEVENT
DTSTART;VALUE=DATE:20241031
DTEND;VALUE=DATE:20241101
DTSTAMP:20260421T142207
CREATED:20240917T214122Z
LAST-MODIFIED:20240917T214122Z
UID:17819-1730332800-1730419199@hechos29.co
SUMMARY:1 Reyes 14:21-31
DESCRIPTION:
URL:https://hechos29.co/evento/1-reyes-1421-31/
END:VEVENT
BEGIN:VEVENT
DTSTART;VALUE=DATE:20241101
DTEND;VALUE=DATE:20241102
DTSTAMP:20260421T142207
CREATED:20240917T214444Z
LAST-MODIFIED:20240917T214444Z
UID:17821-1730419200-1730505599@hechos29.co
SUMMARY:1 Reyes 15:1-8
DESCRIPTION:
URL:https://hechos29.co/evento/1-reyes-151-8/
END:VEVENT
BEGIN:VEVENT
DTSTART;VALUE=DATE:20241102
DTEND;VALUE=DATE:20241103
DTSTAMP:20260421T142207
CREATED:20240917T214535Z
LAST-MODIFIED:20240917T214535Z
UID:17823-1730505600-1730591999@hechos29.co
SUMMARY:1 Reyes 15:9-24
DESCRIPTION:
URL:https://hechos29.co/evento/1-reyes-159-24/
END:VEVENT
BEGIN:VEVENT
DTSTART;VALUE=DATE:20241103
DTEND;VALUE=DATE:20241104
DTSTAMP:20260421T142207
CREATED:20240917T214737Z
LAST-MODIFIED:20240917T214737Z
UID:17825-1730592000-1730678399@hechos29.co
SUMMARY:1 Reyes 15:24-34
DESCRIPTION:
URL:https://hechos29.co/evento/1-reyes-1524-34/
END:VEVENT
BEGIN:VEVENT
DTSTART;VALUE=DATE:20241104
DTEND;VALUE=DATE:20241105
DTSTAMP:20260421T142207
CREATED:20240917T214855Z
LAST-MODIFIED:20240917T214855Z
UID:17827-1730678400-1730764799@hechos29.co
SUMMARY:Salmos 76:1-12
DESCRIPTION:
URL:https://hechos29.co/evento/salmos-761-12-2/
END:VEVENT
BEGIN:VEVENT
DTSTART;VALUE=DATE:20241105
DTEND;VALUE=DATE:20241106
DTSTAMP:20260421T142207
CREATED:20240917T214955Z
LAST-MODIFIED:20240917T214955Z
UID:17829-1730764800-1730851199@hechos29.co
SUMMARY:Salmos 77:1-20
DESCRIPTION:
URL:https://hechos29.co/evento/salmos-771-20-2/
END:VEVENT
BEGIN:VEVENT
DTSTART;VALUE=DATE:20241106
DTEND;VALUE=DATE:20241107
DTSTAMP:20260421T142207
CREATED:20240917T215131Z
LAST-MODIFIED:20240917T215131Z
UID:17831-1730851200-1730937599@hechos29.co
SUMMARY:Salmos 78:1-20
DESCRIPTION:
URL:https://hechos29.co/evento/salmos-781-20/
END:VEVENT
BEGIN:VEVENT
DTSTART;VALUE=DATE:20241107
DTEND;VALUE=DATE:20241108
DTSTAMP:20260421T142207
CREATED:20240917T215227Z
LAST-MODIFIED:20240917T215227Z
UID:17833-1730937600-1731023999@hechos29.co
SUMMARY:Salmos 78:21-40
DESCRIPTION:
URL:https://hechos29.co/evento/salmos-7821-40/
END:VEVENT
BEGIN:VEVENT
DTSTART;VALUE=DATE:20241108
DTEND;VALUE=DATE:20241109
DTSTAMP:20260421T142207
CREATED:20240917T215335Z
LAST-MODIFIED:20240917T215335Z
UID:17835-1731024000-1731110399@hechos29.co
SUMMARY:Salmos 78:41-72
DESCRIPTION:
URL:https://hechos29.co/evento/salmos-7841-72/
END:VEVENT
BEGIN:VEVENT
DTSTART;VALUE=DATE:20241109
DTEND;VALUE=DATE:20241110
DTSTAMP:20260421T142207
CREATED:20240917T215415Z
LAST-MODIFIED:20240917T215443Z
UID:17837-1731110400-1731196799@hechos29.co
SUMMARY:Salmos 79:1-13
DESCRIPTION:
URL:https://hechos29.co/evento/salmos-791-13/
END:VEVENT
BEGIN:VEVENT
DTSTART;VALUE=DATE:20241110
DTEND;VALUE=DATE:20241111
DTSTAMP:20260421T142207
CREATED:20240917T215533Z
LAST-MODIFIED:20240917T215533Z
UID:17839-1731196800-1731283199@hechos29.co
SUMMARY:Salmos 80:1-19
DESCRIPTION:
URL:https://hechos29.co/evento/salmos-801-19/
END:VEVENT
BEGIN:VEVENT
DTSTART;VALUE=DATE:20241111
DTEND;VALUE=DATE:20241112
DTSTAMP:20260421T142207
CREATED:20240917T215618Z
LAST-MODIFIED:20240917T215618Z
UID:17841-1731283200-1731369599@hechos29.co
SUMMARY:1 Reyes 16:1-20
DESCRIPTION:
URL:https://hechos29.co/evento/1-reyes-161-20/
END:VEVENT
BEGIN:VEVENT
DTSTART;VALUE=DATE:20241112
DTEND;VALUE=DATE:20241113
DTSTAMP:20260421T142207
CREATED:20240917T215652Z
LAST-MODIFIED:20240917T215652Z
UID:17843-1731369600-1731455999@hechos29.co
SUMMARY:1 Reyes 16:21-34
DESCRIPTION:
URL:https://hechos29.co/evento/1-reyes-1621-34/
END:VEVENT
BEGIN:VEVENT
DTSTART;VALUE=DATE:20241113
DTEND;VALUE=DATE:20241114
DTSTAMP:20260421T142207
CREATED:20240917T215725Z
LAST-MODIFIED:20240917T215725Z
UID:17845-1731456000-1731542399@hechos29.co
SUMMARY:1 Reyes 17:1-24
DESCRIPTION:
URL:https://hechos29.co/evento/1-reyes-171-24/
END:VEVENT
BEGIN:VEVENT
DTSTART;VALUE=DATE:20241114
DTEND;VALUE=DATE:20241115
DTSTAMP:20260421T142207
CREATED:20240917T215754Z
LAST-MODIFIED:20240917T215754Z
UID:17847-1731542400-1731628799@hechos29.co
SUMMARY:1 Reyes 18:1-20
DESCRIPTION:
URL:https://hechos29.co/evento/1-reyes-181-20/
END:VEVENT
BEGIN:VEVENT
DTSTART;VALUE=DATE:20241115
DTEND;VALUE=DATE:20241116
DTSTAMP:20260421T142207
CREATED:20240917T215826Z
LAST-MODIFIED:20240917T215826Z
UID:17849-1731628800-1731715199@hechos29.co
SUMMARY:1 Reyes 18:21-40
DESCRIPTION:
URL:https://hechos29.co/evento/1-reyes-1821-40/
END:VEVENT
BEGIN:VEVENT
DTSTART;VALUE=DATE:20241116
DTEND;VALUE=DATE:20241117
DTSTAMP:20260421T142207
CREATED:20240917T215857Z
LAST-MODIFIED:20240917T215857Z
UID:17851-1731715200-1731801599@hechos29.co
SUMMARY:1 Reyes 19:1-9
DESCRIPTION:
URL:https://hechos29.co/evento/1-reyes-191-9/
END:VEVENT
BEGIN:VEVENT
DTSTART;VALUE=DATE:20241117
DTEND;VALUE=DATE:20241118
DTSTAMP:20260421T142207
CREATED:20240917T215952Z
LAST-MODIFIED:20240917T215952Z
UID:17853-1731801600-1731887999@hechos29.co
SUMMARY:1 Reyes 19:10-21
DESCRIPTION:
URL:https://hechos29.co/evento/1-reyes-1910-21/
END:VEVENT
BEGIN:VEVENT
DTSTART;VALUE=DATE:20241118
DTEND;VALUE=DATE:20241119
DTSTAMP:20260421T142207
CREATED:20240917T220024Z
LAST-MODIFIED:20240917T220024Z
UID:17855-1731888000-1731974399@hechos29.co
SUMMARY:Salmos 81:1-16
DESCRIPTION:
URL:https://hechos29.co/evento/salmos-811-16/
END:VEVENT
BEGIN:VEVENT
DTSTART;VALUE=DATE:20241119
DTEND;VALUE=DATE:20241120
DTSTAMP:20260421T142207
CREATED:20240917T220052Z
LAST-MODIFIED:20240917T220052Z
UID:17857-1731974400-1732060799@hechos29.co
SUMMARY:Salmos 82:1-8
DESCRIPTION:
URL:https://hechos29.co/evento/salmos-821-8/
END:VEVENT
BEGIN:VEVENT
DTSTART;VALUE=DATE:20241120
DTEND;VALUE=DATE:20241121
DTSTAMP:20260421T142207
CREATED:20240917T220124Z
LAST-MODIFIED:20240917T220124Z
UID:17859-1732060800-1732147199@hechos29.co
SUMMARY:Salmos 83:1-18
DESCRIPTION:
URL:https://hechos29.co/evento/salmos-831-18/
END:VEVENT
BEGIN:VEVENT
DTSTART;VALUE=DATE:20241121
DTEND;VALUE=DATE:20241122
DTSTAMP:20260421T142207
CREATED:20240917T220154Z
LAST-MODIFIED:20240917T220154Z
UID:17861-1732147200-1732233599@hechos29.co
SUMMARY:Salmos 84:1-12
DESCRIPTION:
URL:https://hechos29.co/evento/salmos-841-12/
END:VEVENT
BEGIN:VEVENT
DTSTART;VALUE=DATE:20241122
DTEND;VALUE=DATE:20241123
DTSTAMP:20260421T142207
CREATED:20240917T220227Z
LAST-MODIFIED:20240917T220227Z
UID:17863-1732233600-1732319999@hechos29.co
SUMMARY:Salmos 85:1-13
DESCRIPTION:
URL:https://hechos29.co/evento/salmos-851-13/
END:VEVENT
BEGIN:VEVENT
DTSTART;VALUE=DATE:20241123
DTEND;VALUE=DATE:20241124
DTSTAMP:20260421T142207
CREATED:20240917T220254Z
LAST-MODIFIED:20240917T220254Z
UID:17865-1732320000-1732406399@hechos29.co
SUMMARY:Salmos 86:1-17
DESCRIPTION:
URL:https://hechos29.co/evento/salmos-861-17/
END:VEVENT
BEGIN:VEVENT
DTSTART;VALUE=DATE:20241124
DTEND;VALUE=DATE:20241125
DTSTAMP:20260421T142207
CREATED:20240917T220331Z
LAST-MODIFIED:20240917T220331Z
UID:17867-1732406400-1732492799@hechos29.co
SUMMARY:Salmos 87:1-7
DESCRIPTION:
URL:https://hechos29.co/evento/salmos-871-7/
END:VEVENT
END:VCALENDAR