BEGIN:VCALENDAR
VERSION:2.0
PRODID:-//Hechos 29 - ECPv6.15.20//NONSGML v1.0//EN
CALSCALE:GREGORIAN
METHOD:PUBLISH
X-WR-CALNAME:Hechos 29
X-ORIGINAL-URL:https://hechos29.co
X-WR-CALDESC:Eventos para Hechos 29
REFRESH-INTERVAL;VALUE=DURATION:PT1H
X-Robots-Tag:noindex
X-PUBLISHED-TTL:PT1H
BEGIN:VTIMEZONE
TZID:America/Bogota
BEGIN:STANDARD
TZOFFSETFROM:-0500
TZOFFSETTO:-0500
TZNAME:-05
DTSTART:20240101T000000
END:STANDARD
END:VTIMEZONE
BEGIN:VEVENT
DTSTART;VALUE=DATE:20250303
DTEND;VALUE=DATE:20250304
DTSTAMP:20260424T105424
CREATED:20250213T181419Z
LAST-MODIFIED:20250213T181419Z
UID:18306-1740960000-1741046399@hechos29.co
SUMMARY:Salmos 112:1-10
DESCRIPTION:
URL:https://hechos29.co/evento/salmos-1121-10-2/
END:VEVENT
BEGIN:VEVENT
DTSTART;VALUE=DATE:20250302
DTEND;VALUE=DATE:20250303
DTSTAMP:20260424T105424
CREATED:20250206T203848Z
LAST-MODIFIED:20250206T203848Z
UID:18281-1740873600-1740959999@hechos29.co
SUMMARY:2 Reyes 12:1-21
DESCRIPTION:
URL:https://hechos29.co/evento/2-reyes-121-21/
END:VEVENT
BEGIN:VEVENT
DTSTART;VALUE=DATE:20250301
DTEND;VALUE=DATE:20250302
DTSTAMP:20260424T105424
CREATED:20250206T203757Z
LAST-MODIFIED:20250206T203757Z
UID:18279-1740787200-1740873599@hechos29.co
SUMMARY:2 Reyes 11:13-21
DESCRIPTION:
URL:https://hechos29.co/evento/2-reyes-1113-21/
END:VEVENT
BEGIN:VEVENT
DTSTART;VALUE=DATE:20250228
DTEND;VALUE=DATE:20250301
DTSTAMP:20260424T105424
CREATED:20250206T203705Z
LAST-MODIFIED:20250206T203705Z
UID:18277-1740700800-1740787199@hechos29.co
SUMMARY:2 Reyes 11:1-12
DESCRIPTION:
URL:https://hechos29.co/evento/2-reyes-111-12/
END:VEVENT
BEGIN:VEVENT
DTSTART;VALUE=DATE:20250227
DTEND;VALUE=DATE:20250228
DTSTAMP:20260424T105424
CREATED:20250206T203632Z
LAST-MODIFIED:20250206T203632Z
UID:18275-1740614400-1740700799@hechos29.co
SUMMARY:2 Reyes 10:18-36
DESCRIPTION:
URL:https://hechos29.co/evento/2-reyes-1018-36/
END:VEVENT
BEGIN:VEVENT
DTSTART;VALUE=DATE:20250226
DTEND;VALUE=DATE:20250227
DTSTAMP:20260424T105424
CREATED:20250206T203549Z
LAST-MODIFIED:20250206T203549Z
UID:18273-1740528000-1740614399@hechos29.co
SUMMARY:2 Reyes 10:1-17
DESCRIPTION:
URL:https://hechos29.co/evento/2-reyes-101-17/
END:VEVENT
BEGIN:VEVENT
DTSTART;VALUE=DATE:20250225
DTEND;VALUE=DATE:20250226
DTSTAMP:20260424T105424
CREATED:20250206T203454Z
LAST-MODIFIED:20250206T203454Z
UID:18271-1740441600-1740527999@hechos29.co
SUMMARY:2 Reyes 9:14-37
DESCRIPTION:
URL:https://hechos29.co/evento/2-reyes-914-37/
END:VEVENT
BEGIN:VEVENT
DTSTART;VALUE=DATE:20250224
DTEND;VALUE=DATE:20250225
DTSTAMP:20260424T105424
CREATED:20250206T203309Z
LAST-MODIFIED:20250206T203309Z
UID:18269-1740355200-1740441599@hechos29.co
SUMMARY:2 Reyes 9:1-13
DESCRIPTION:
URL:https://hechos29.co/evento/2-reyes-91-13/
END:VEVENT
BEGIN:VEVENT
DTSTART;VALUE=DATE:20250223
DTEND;VALUE=DATE:20250224
DTSTAMP:20260424T105424
CREATED:20250206T195240Z
LAST-MODIFIED:20250206T195240Z
UID:18267-1740268800-1740355199@hechos29.co
SUMMARY:Salmos 111:1-10
DESCRIPTION:
URL:https://hechos29.co/evento/salmos-1111-10/
END:VEVENT
BEGIN:VEVENT
DTSTART;VALUE=DATE:20250222
DTEND;VALUE=DATE:20250223
DTSTAMP:20260424T105424
CREATED:20250206T195130Z
LAST-MODIFIED:20250206T195130Z
UID:18265-1740182400-1740268799@hechos29.co
SUMMARY:Salmos 110:1-7
DESCRIPTION:
URL:https://hechos29.co/evento/salmos-1101-7/
END:VEVENT
BEGIN:VEVENT
DTSTART;VALUE=DATE:20250221
DTEND;VALUE=DATE:20250222
DTSTAMP:20260424T105424
CREATED:20250206T195046Z
LAST-MODIFIED:20250206T195046Z
UID:18263-1740096000-1740182399@hechos29.co
SUMMARY:Salmos 109:21-31
DESCRIPTION:
URL:https://hechos29.co/evento/salmos-10921-31/
END:VEVENT
BEGIN:VEVENT
DTSTART;VALUE=DATE:20250220
DTEND;VALUE=DATE:20250221
DTSTAMP:20260424T105424
CREATED:20250206T194954Z
LAST-MODIFIED:20250206T194954Z
UID:18261-1740009600-1740095999@hechos29.co
SUMMARY:Salmos 109:1-20
DESCRIPTION:
URL:https://hechos29.co/evento/salmos-1091-20/
END:VEVENT
BEGIN:VEVENT
DTSTART;VALUE=DATE:20250219
DTEND;VALUE=DATE:20250220
DTSTAMP:20260424T105424
CREATED:20250206T194820Z
LAST-MODIFIED:20250206T194900Z
UID:18259-1739923200-1740009599@hechos29.co
SUMMARY:Salmos 108:1-13
DESCRIPTION:
URL:https://hechos29.co/evento/salmos-1081-13/
END:VEVENT
BEGIN:VEVENT
DTSTART;VALUE=DATE:20250218
DTEND;VALUE=DATE:20250219
DTSTAMP:20260424T105424
CREATED:20250206T194242Z
LAST-MODIFIED:20250206T194242Z
UID:18257-1739836800-1739923199@hechos29.co
SUMMARY:Salmos 107:23-43
DESCRIPTION:
URL:https://hechos29.co/evento/salmos-10723-43/
END:VEVENT
BEGIN:VEVENT
DTSTART;VALUE=DATE:20250217
DTEND;VALUE=DATE:20250218
DTSTAMP:20260424T105424
CREATED:20250206T194150Z
LAST-MODIFIED:20250206T194150Z
UID:18255-1739750400-1739836799@hechos29.co
SUMMARY:Salmos 107:1-22
DESCRIPTION:
URL:https://hechos29.co/evento/salmos-1071-22/
END:VEVENT
BEGIN:VEVENT
DTSTART;VALUE=DATE:20250216
DTEND;VALUE=DATE:20250217
DTSTAMP:20260424T105424
CREATED:20241230T184953Z
LAST-MODIFIED:20241230T184953Z
UID:18215-1739664000-1739750399@hechos29.co
SUMMARY:2 Reyes 8:16-29
DESCRIPTION:
URL:https://hechos29.co/evento/2-reyes-816-29/
END:VEVENT
BEGIN:VEVENT
DTSTART;VALUE=DATE:20250215
DTEND;VALUE=DATE:20250216
DTSTAMP:20260424T105424
CREATED:20241230T184853Z
LAST-MODIFIED:20241230T184853Z
UID:18213-1739577600-1739663999@hechos29.co
SUMMARY:2 Reyes 8:7-1-15
DESCRIPTION:
URL:https://hechos29.co/evento/2-reyes-87-1-15/
END:VEVENT
BEGIN:VEVENT
DTSTART;VALUE=DATE:20250214
DTEND;VALUE=DATE:20250215
DTSTAMP:20260424T105424
CREATED:20241230T184757Z
LAST-MODIFIED:20241230T184757Z
UID:18211-1739491200-1739577599@hechos29.co
SUMMARY:2 Reyes 8:1-6
DESCRIPTION:
URL:https://hechos29.co/evento/2-reyes-81-6/
END:VEVENT
BEGIN:VEVENT
DTSTART;TZID=America/Bogota:20250213T080000
DTEND;TZID=America/Bogota:20250213T170000
DTSTAMP:20260424T105424
CREATED:20250213T180519Z
LAST-MODIFIED:20250213T180519Z
UID:18292-1739433600-1739466000@hechos29.co
SUMMARY:Salmos 112:1-10
DESCRIPTION:
URL:https://hechos29.co/evento/salmos-1121-10/
END:VEVENT
BEGIN:VEVENT
DTSTART;VALUE=DATE:20250213
DTEND;VALUE=DATE:20250214
DTSTAMP:20260424T105424
CREATED:20241230T184719Z
LAST-MODIFIED:20241230T184719Z
UID:18209-1739404800-1739491199@hechos29.co
SUMMARY:2 Reyes 7:12-20
DESCRIPTION:
URL:https://hechos29.co/evento/2-reyes-712-20/
END:VEVENT
BEGIN:VEVENT
DTSTART;VALUE=DATE:20250212
DTEND;VALUE=DATE:20250213
DTSTAMP:20260424T105424
CREATED:20241230T184642Z
LAST-MODIFIED:20241230T184642Z
UID:18207-1739318400-1739404799@hechos29.co
SUMMARY:2 Reyes 7:1-11
DESCRIPTION:
URL:https://hechos29.co/evento/2-reyes-71-11/
END:VEVENT
BEGIN:VEVENT
DTSTART;VALUE=DATE:20250211
DTEND;VALUE=DATE:20250212
DTSTAMP:20260424T105424
CREATED:20241230T184543Z
LAST-MODIFIED:20241230T184543Z
UID:18205-1739232000-1739318399@hechos29.co
SUMMARY:2 Reyes 6:24-33
DESCRIPTION:
URL:https://hechos29.co/evento/2-reyes-624-33/
END:VEVENT
BEGIN:VEVENT
DTSTART;VALUE=DATE:20250210
DTEND;VALUE=DATE:20250211
DTSTAMP:20260424T105424
CREATED:20241230T184500Z
LAST-MODIFIED:20241230T184500Z
UID:18203-1739145600-1739231999@hechos29.co
SUMMARY:2 Reyes 6:1-23
DESCRIPTION:
URL:https://hechos29.co/evento/2-reyes-61-23/
END:VEVENT
BEGIN:VEVENT
DTSTART;VALUE=DATE:20250209
DTEND;VALUE=DATE:20250210
DTSTAMP:20260424T105424
CREATED:20241230T184327Z
LAST-MODIFIED:20241230T184327Z
UID:18201-1739059200-1739145599@hechos29.co
SUMMARY:Salmos 106:24-48
DESCRIPTION:
URL:https://hechos29.co/evento/salmos-10624-48/
END:VEVENT
BEGIN:VEVENT
DTSTART;VALUE=DATE:20250208
DTEND;VALUE=DATE:20250209
DTSTAMP:20260424T105424
CREATED:20241230T184207Z
LAST-MODIFIED:20241230T184207Z
UID:18199-1738972800-1739059199@hechos29.co
SUMMARY:Salmos 106:1-23
DESCRIPTION:
URL:https://hechos29.co/evento/salmos-1061-23/
END:VEVENT
BEGIN:VEVENT
DTSTART;VALUE=DATE:20250207
DTEND;VALUE=DATE:20250208
DTSTAMP:20260424T105424
CREATED:20241230T184107Z
LAST-MODIFIED:20241230T184107Z
UID:18197-1738886400-1738972799@hechos29.co
SUMMARY:Salmos 105:23-45
DESCRIPTION:
URL:https://hechos29.co/evento/salmos-10523-45/
END:VEVENT
BEGIN:VEVENT
DTSTART;VALUE=DATE:20250206
DTEND;VALUE=DATE:20250207
DTSTAMP:20260424T105424
CREATED:20241230T183905Z
LAST-MODIFIED:20241230T183905Z
UID:18195-1738800000-1738886399@hechos29.co
SUMMARY:Salmos 105:1-22
DESCRIPTION:
URL:https://hechos29.co/evento/salmos-1051-22/
END:VEVENT
BEGIN:VEVENT
DTSTART;VALUE=DATE:20250205
DTEND;VALUE=DATE:20250206
DTSTAMP:20260424T105424
CREATED:20241230T183818Z
LAST-MODIFIED:20241230T183818Z
UID:18193-1738713600-1738799999@hechos29.co
SUMMARY:Salmos 104:24-35
DESCRIPTION:
URL:https://hechos29.co/evento/salmos-10424-35/
END:VEVENT
BEGIN:VEVENT
DTSTART;VALUE=DATE:20250204
DTEND;VALUE=DATE:20250205
DTSTAMP:20260424T105424
CREATED:20241230T183722Z
LAST-MODIFIED:20241230T183722Z
UID:18191-1738627200-1738713599@hechos29.co
SUMMARY:Salmos 104:1-23
DESCRIPTION:
URL:https://hechos29.co/evento/salmos-1041-23/
END:VEVENT
BEGIN:VEVENT
DTSTART;VALUE=DATE:20250203
DTEND;VALUE=DATE:20250204
DTSTAMP:20260424T105424
CREATED:20241230T183628Z
LAST-MODIFIED:20241230T183628Z
UID:18189-1738540800-1738627199@hechos29.co
SUMMARY:Salmos 103:1-22
DESCRIPTION:
URL:https://hechos29.co/evento/salmos-1031-22/
END:VEVENT
END:VCALENDAR