BEGIN:VCALENDAR
VERSION:2.0
PRODID:-//Hechos 29 - ECPv6.15.20//NONSGML v1.0//EN
CALSCALE:GREGORIAN
METHOD:PUBLISH
X-WR-CALNAME:Hechos 29
X-ORIGINAL-URL:https://hechos29.co
X-WR-CALDESC:Eventos para Hechos 29
REFRESH-INTERVAL;VALUE=DURATION:PT1H
X-Robots-Tag:noindex
X-PUBLISHED-TTL:PT1H
BEGIN:VTIMEZONE
TZID:America/Bogota
BEGIN:STANDARD
TZOFFSETFROM:-0500
TZOFFSETTO:-0500
TZNAME:-05
DTSTART:20230101T000000
END:STANDARD
END:VTIMEZONE
BEGIN:VEVENT
DTSTART;VALUE=DATE:20250127
DTEND;VALUE=DATE:20250128
DTSTAMP:20260424T152935
CREATED:20241230T182545Z
LAST-MODIFIED:20241230T182545Z
UID:18175-1737936000-1738022399@hechos29.co
SUMMARY:2 Reyes 3:13-27
DESCRIPTION:
URL:https://hechos29.co/evento/2-reyes-313-27/
END:VEVENT
BEGIN:VEVENT
DTSTART;VALUE=DATE:20250126
DTEND;VALUE=DATE:20250127
DTSTAMP:20260424T152935
CREATED:20241230T182331Z
LAST-MODIFIED:20241230T182331Z
UID:18173-1737849600-1737935999@hechos29.co
SUMMARY:Salmos 102:1-17
DESCRIPTION:
URL:https://hechos29.co/evento/salmos-1021-17/
END:VEVENT
BEGIN:VEVENT
DTSTART;VALUE=DATE:20250125
DTEND;VALUE=DATE:20250126
DTSTAMP:20260424T152935
CREATED:20241230T182221Z
LAST-MODIFIED:20241230T182221Z
UID:18171-1737763200-1737849599@hechos29.co
SUMMARY:Salmos 101:1-8
DESCRIPTION:
URL:https://hechos29.co/evento/salmos-1011-8/
END:VEVENT
BEGIN:VEVENT
DTSTART;VALUE=DATE:20250124
DTEND;VALUE=DATE:20250125
DTSTAMP:20260424T152935
CREATED:20241230T182049Z
LAST-MODIFIED:20241230T182049Z
UID:18169-1737676800-1737763199@hechos29.co
SUMMARY:Salmos 100:1-5
DESCRIPTION:
URL:https://hechos29.co/evento/salmos-1001-5/
END:VEVENT
BEGIN:VEVENT
DTSTART;VALUE=DATE:20250123
DTEND;VALUE=DATE:20250124
DTSTAMP:20260424T152935
CREATED:20241230T181901Z
LAST-MODIFIED:20241230T181901Z
UID:18167-1737590400-1737676799@hechos29.co
SUMMARY:Salmos 99:1-9
DESCRIPTION:
URL:https://hechos29.co/evento/salmos-991-9/
END:VEVENT
BEGIN:VEVENT
DTSTART;VALUE=DATE:20250122
DTEND;VALUE=DATE:20250123
DTSTAMP:20260424T152935
CREATED:20241230T181759Z
LAST-MODIFIED:20241230T181759Z
UID:18165-1737504000-1737590399@hechos29.co
SUMMARY:Salmos 98:1-9
DESCRIPTION:
URL:https://hechos29.co/evento/salmos-981-9/
END:VEVENT
BEGIN:VEVENT
DTSTART;VALUE=DATE:20250121
DTEND;VALUE=DATE:20250122
DTSTAMP:20260424T152935
CREATED:20241230T181639Z
LAST-MODIFIED:20241230T181639Z
UID:18163-1737417600-1737503999@hechos29.co
SUMMARY:Salmos 97:1-12
DESCRIPTION:
URL:https://hechos29.co/evento/salmos-971-12/
END:VEVENT
BEGIN:VEVENT
DTSTART;VALUE=DATE:20250120
DTEND;VALUE=DATE:20250121
DTSTAMP:20260424T152935
CREATED:20241230T181551Z
LAST-MODIFIED:20241230T181551Z
UID:18161-1737331200-1737417599@hechos29.co
SUMMARY:Salmos 96:1-13
DESCRIPTION:
URL:https://hechos29.co/evento/salmos-961-13/
END:VEVENT
BEGIN:VEVENT
DTSTART;VALUE=DATE:20250119
DTEND;VALUE=DATE:20250120
DTSTAMP:20260424T152935
CREATED:20241230T181303Z
LAST-MODIFIED:20241230T181303Z
UID:18159-1737244800-1737331199@hechos29.co
SUMMARY:2 Reyes 3:1-12
DESCRIPTION:
URL:https://hechos29.co/evento/2-reyes-31-12/
END:VEVENT
BEGIN:VEVENT
DTSTART;VALUE=DATE:20250118
DTEND;VALUE=DATE:20250119
DTSTAMP:20260424T152935
CREATED:20241230T181151Z
LAST-MODIFIED:20241230T181151Z
UID:18157-1737158400-1737244799@hechos29.co
SUMMARY:2 Reyes 2:15-24
DESCRIPTION:
URL:https://hechos29.co/evento/2-reyes-215-24/
END:VEVENT
BEGIN:VEVENT
DTSTART;VALUE=DATE:20250117
DTEND;VALUE=DATE:20250118
DTSTAMP:20260424T152935
CREATED:20241227T041356Z
LAST-MODIFIED:20241227T041356Z
UID:18133-1737072000-1737158399@hechos29.co
SUMMARY:2 Reyes 2:1-14
DESCRIPTION:
URL:https://hechos29.co/evento/2-reyes-21-14/
END:VEVENT
BEGIN:VEVENT
DTSTART;VALUE=DATE:20250116
DTEND;VALUE=DATE:20250117
DTSTAMP:20260424T152935
CREATED:20241227T041302Z
LAST-MODIFIED:20241227T041302Z
UID:18131-1736985600-1737071999@hechos29.co
SUMMARY:2 Reyes 1:1-18
DESCRIPTION:
URL:https://hechos29.co/evento/2-reyes-11-18/
END:VEVENT
BEGIN:VEVENT
DTSTART;VALUE=DATE:20250115
DTEND;VALUE=DATE:20250116
DTSTAMP:20260424T152935
CREATED:20241227T041036Z
LAST-MODIFIED:20241227T041036Z
UID:18129-1736899200-1736985599@hechos29.co
SUMMARY:1 Reyes 22:41-53
DESCRIPTION:
URL:https://hechos29.co/evento/1-reyes-2241-53/
END:VEVENT
BEGIN:VEVENT
DTSTART;VALUE=DATE:20250114
DTEND;VALUE=DATE:20250115
DTSTAMP:20260424T152935
CREATED:20241227T040925Z
LAST-MODIFIED:20241227T040925Z
UID:18127-1736812800-1736899199@hechos29.co
SUMMARY:1 Reyes 22:29-40
DESCRIPTION:
URL:https://hechos29.co/evento/1-reyes-2229-40/
END:VEVENT
BEGIN:VEVENT
DTSTART;VALUE=DATE:20250113
DTEND;VALUE=DATE:20250114
DTSTAMP:20260424T152935
CREATED:20241227T040754Z
LAST-MODIFIED:20241227T040754Z
UID:18125-1736726400-1736812799@hechos29.co
SUMMARY:1 Reyes 22:10-28
DESCRIPTION:
URL:https://hechos29.co/evento/1-reyes-2210-28/
END:VEVENT
BEGIN:VEVENT
DTSTART;VALUE=DATE:20250112
DTEND;VALUE=DATE:20250113
DTSTAMP:20260424T152935
CREATED:20241227T040551Z
LAST-MODIFIED:20241227T040551Z
UID:18123-1736640000-1736726399@hechos29.co
SUMMARY:Ester 9:20 - 10:3
DESCRIPTION:
URL:https://hechos29.co/evento/ester-920-103/
END:VEVENT
BEGIN:VEVENT
DTSTART;VALUE=DATE:20250111
DTEND;VALUE=DATE:20250112
DTSTAMP:20260424T152935
CREATED:20241227T040306Z
LAST-MODIFIED:20241227T040306Z
UID:18121-1736553600-1736639999@hechos29.co
SUMMARY:Ester 9:1-19
DESCRIPTION:
URL:https://hechos29.co/evento/ester-91-19/
END:VEVENT
BEGIN:VEVENT
DTSTART;VALUE=DATE:20250110
DTEND;VALUE=DATE:20250111
DTSTAMP:20260424T152935
CREATED:20241227T040212Z
LAST-MODIFIED:20241227T040212Z
UID:18119-1736467200-1736553599@hechos29.co
SUMMARY:Ester 8:1-17
DESCRIPTION:
URL:https://hechos29.co/evento/ester-81-17/
END:VEVENT
BEGIN:VEVENT
DTSTART;VALUE=DATE:20250109
DTEND;VALUE=DATE:20250110
DTSTAMP:20260424T152935
CREATED:20241227T040058Z
LAST-MODIFIED:20241227T040058Z
UID:18117-1736380800-1736467199@hechos29.co
SUMMARY:Ester 7:1-10
DESCRIPTION:
URL:https://hechos29.co/evento/ester-71-10/
END:VEVENT
BEGIN:VEVENT
DTSTART;VALUE=DATE:20250108
DTEND;VALUE=DATE:20250109
DTSTAMP:20260424T152935
CREATED:20241227T035812Z
LAST-MODIFIED:20241227T035812Z
UID:18114-1736294400-1736380799@hechos29.co
SUMMARY:Ester 6:1-14
DESCRIPTION:
URL:https://hechos29.co/evento/ester-61-14/
END:VEVENT
BEGIN:VEVENT
DTSTART;VALUE=DATE:20250107
DTEND;VALUE=DATE:20250108
DTSTAMP:20260424T152935
CREATED:20241227T035613Z
LAST-MODIFIED:20241227T035613Z
UID:18112-1736208000-1736294399@hechos29.co
SUMMARY:Ester 5:1-14
DESCRIPTION:
URL:https://hechos29.co/evento/ester-51-14/
END:VEVENT
BEGIN:VEVENT
DTSTART;VALUE=DATE:20250106
DTEND;VALUE=DATE:20250107
DTSTAMP:20260424T152935
CREATED:20241227T035456Z
LAST-MODIFIED:20241227T035456Z
UID:18110-1736121600-1736207999@hechos29.co
SUMMARY:Ester 4:1-17
DESCRIPTION:
URL:https://hechos29.co/evento/ester-41-17/
END:VEVENT
BEGIN:VEVENT
DTSTART;VALUE=DATE:20250105
DTEND;VALUE=DATE:20250106
DTSTAMP:20260424T152935
CREATED:20241227T035346Z
LAST-MODIFIED:20241227T035346Z
UID:18108-1736035200-1736121599@hechos29.co
SUMMARY:Ester 3:1-15
DESCRIPTION:
URL:https://hechos29.co/evento/ester-31-15/
END:VEVENT
BEGIN:VEVENT
DTSTART;VALUE=DATE:20250104
DTEND;VALUE=DATE:20250105
DTSTAMP:20260424T152935
CREATED:20241227T035231Z
LAST-MODIFIED:20241227T035231Z
UID:18106-1735948800-1736035199@hechos29.co
SUMMARY:Ester 2:12-23
DESCRIPTION:
URL:https://hechos29.co/evento/ester-212-23/
END:VEVENT
BEGIN:VEVENT
DTSTART;VALUE=DATE:20250103
DTEND;VALUE=DATE:20250104
DTSTAMP:20260424T152935
CREATED:20241227T035111Z
LAST-MODIFIED:20241227T035111Z
UID:18104-1735862400-1735948799@hechos29.co
SUMMARY:Ester 2:1-11
DESCRIPTION:
URL:https://hechos29.co/evento/ester-21-11/
END:VEVENT
BEGIN:VEVENT
DTSTART;VALUE=DATE:20250102
DTEND;VALUE=DATE:20250103
DTSTAMP:20260424T152935
CREATED:20241227T035010Z
LAST-MODIFIED:20241227T035010Z
UID:18102-1735776000-1735862399@hechos29.co
SUMMARY:Ester 1:10-22
DESCRIPTION:
URL:https://hechos29.co/evento/ester-110-22/
END:VEVENT
BEGIN:VEVENT
DTSTART;VALUE=DATE:20250101
DTEND;VALUE=DATE:20250102
DTSTAMP:20260424T152935
CREATED:20241227T034854Z
LAST-MODIFIED:20241227T034854Z
UID:18100-1735689600-1735775999@hechos29.co
SUMMARY:Ester 1:1-9
DESCRIPTION:
URL:https://hechos29.co/evento/ester-11-9/
END:VEVENT
BEGIN:VEVENT
DTSTART;VALUE=DATE:20241231
DTEND;VALUE=DATE:20250101
DTSTAMP:20260424T152935
CREATED:20241121T000345Z
LAST-MODIFIED:20241121T000345Z
UID:18044-1735603200-1735689599@hechos29.co
SUMMARY:Salmos 95:1-11
DESCRIPTION:
URL:https://hechos29.co/evento/salmos-951-11/
END:VEVENT
BEGIN:VEVENT
DTSTART;VALUE=DATE:20241230
DTEND;VALUE=DATE:20241231
DTSTAMP:20260424T152935
CREATED:20241121T000212Z
LAST-MODIFIED:20241121T000212Z
UID:18042-1735516800-1735603199@hechos29.co
SUMMARY:Salmos 94:1-23
DESCRIPTION:
URL:https://hechos29.co/evento/salmos-941-23/
END:VEVENT
BEGIN:VEVENT
DTSTART;VALUE=DATE:20241229
DTEND;VALUE=DATE:20241230
DTSTAMP:20260424T152935
CREATED:20241121T000045Z
LAST-MODIFIED:20241121T000045Z
UID:18040-1735430400-1735516799@hechos29.co
SUMMARY:Salmos 93:1-5
DESCRIPTION:
URL:https://hechos29.co/evento/salmos-931-5/
END:VEVENT
END:VCALENDAR