BEGIN:VCALENDAR
VERSION:2.0
PRODID:-//Hechos 29 - ECPv6.15.20//NONSGML v1.0//EN
CALSCALE:GREGORIAN
METHOD:PUBLISH
X-ORIGINAL-URL:https://hechos29.co
X-WR-CALDESC:Eventos para Hechos 29
REFRESH-INTERVAL;VALUE=DURATION:PT1H
X-Robots-Tag:noindex
X-PUBLISHED-TTL:PT1H
BEGIN:VTIMEZONE
TZID:America/Bogota
BEGIN:STANDARD
TZOFFSETFROM:-0500
TZOFFSETTO:-0500
TZNAME:-05
DTSTART:20240101T000000
END:STANDARD
END:VTIMEZONE
BEGIN:VEVENT
DTSTART;VALUE=DATE:20250525
DTEND;VALUE=DATE:20250526
DTSTAMP:20260423T063558
CREATED:20250522T211341Z
LAST-MODIFIED:20250522T211341Z
UID:18609-1748131200-1748217599@hechos29.co
SUMMARY:Salmos 141:1-10
DESCRIPTION:
URL:https://hechos29.co/evento/salmos-1411-10/
END:VEVENT
BEGIN:VEVENT
DTSTART;VALUE=DATE:20250524
DTEND;VALUE=DATE:20250525
DTSTAMP:20260423T063558
CREATED:20250522T211051Z
LAST-MODIFIED:20250522T211051Z
UID:18607-1748044800-1748131199@hechos29.co
SUMMARY:Salmos 140:1-13
DESCRIPTION:
URL:https://hechos29.co/evento/salmos-1401-13/
END:VEVENT
BEGIN:VEVENT
DTSTART;VALUE=DATE:20250523
DTEND;VALUE=DATE:20250524
DTSTAMP:20260423T063558
CREATED:20250522T210810Z
LAST-MODIFIED:20250522T210810Z
UID:18605-1747958400-1748044799@hechos29.co
SUMMARY:Salmos 139:1-24
DESCRIPTION:
URL:https://hechos29.co/evento/salmos-1391-24/
END:VEVENT
BEGIN:VEVENT
DTSTART;VALUE=DATE:20250522
DTEND;VALUE=DATE:20250523
DTSTAMP:20260423T063558
CREATED:20250522T210719Z
LAST-MODIFIED:20250522T210719Z
UID:18603-1747872000-1747958399@hechos29.co
SUMMARY:Salmos 138:1-8
DESCRIPTION:
URL:https://hechos29.co/evento/salmos-1381-8/
END:VEVENT
BEGIN:VEVENT
DTSTART;VALUE=DATE:20250521
DTEND;VALUE=DATE:20250522
DTSTAMP:20260423T063558
CREATED:20250522T210617Z
LAST-MODIFIED:20250522T210617Z
UID:18601-1747785600-1747871999@hechos29.co
SUMMARY:Salmos 137:1-9
DESCRIPTION:
URL:https://hechos29.co/evento/salmos-1371-9/
END:VEVENT
BEGIN:VEVENT
DTSTART;VALUE=DATE:20250520
DTEND;VALUE=DATE:20250521
DTSTAMP:20260423T063558
CREATED:20250522T210517Z
LAST-MODIFIED:20250522T210517Z
UID:18599-1747699200-1747785599@hechos29.co
SUMMARY:Salmos 136:1-26
DESCRIPTION:
URL:https://hechos29.co/evento/salmos-1361-26/
END:VEVENT
BEGIN:VEVENT
DTSTART;VALUE=DATE:20250519
DTEND;VALUE=DATE:20250520
DTSTAMP:20260423T063558
CREATED:20250519T140442Z
LAST-MODIFIED:20250522T210320Z
UID:12801-1747612800-1747699199@hechos29.co
SUMMARY:Salmos 135:1-21
DESCRIPTION:
URL:https://hechos29.co/evento/juan-1917-42-2/
END:VEVENT
BEGIN:VEVENT
DTSTART;VALUE=DATE:20250518
DTEND;VALUE=DATE:20250519
DTSTAMP:20260423T063558
CREATED:20250306T012335Z
LAST-MODIFIED:20250306T012335Z
UID:18466-1747526400-1747612799@hechos29.co
SUMMARY:Daniel 7:15-28
DESCRIPTION:
URL:https://hechos29.co/evento/daniel-715-28-2/
END:VEVENT
BEGIN:VEVENT
DTSTART;VALUE=DATE:20250517
DTEND;VALUE=DATE:20250518
DTSTAMP:20260423T063558
CREATED:20250306T012247Z
LAST-MODIFIED:20250306T012247Z
UID:18464-1747440000-1747526399@hechos29.co
SUMMARY:Daniel 7:1-14
DESCRIPTION:
URL:https://hechos29.co/evento/daniel-71-14-2/
END:VEVENT
BEGIN:VEVENT
DTSTART;VALUE=DATE:20250516
DTEND;VALUE=DATE:20250517
DTSTAMP:20260423T063558
CREATED:20250306T012152Z
LAST-MODIFIED:20250306T012152Z
UID:18462-1747353600-1747439999@hechos29.co
SUMMARY:Daniel 6:17-28
DESCRIPTION:
URL:https://hechos29.co/evento/daniel-617-28/
END:VEVENT
BEGIN:VEVENT
DTSTART;VALUE=DATE:20250515
DTEND;VALUE=DATE:20250516
DTSTAMP:20260423T063558
CREATED:20250306T012110Z
LAST-MODIFIED:20250306T012110Z
UID:18460-1747267200-1747353599@hechos29.co
SUMMARY:Daniel 6:1-16
DESCRIPTION:
URL:https://hechos29.co/evento/daniel-61-16/
END:VEVENT
BEGIN:VEVENT
DTSTART;VALUE=DATE:20250514
DTEND;VALUE=DATE:20250515
DTSTAMP:20260423T063558
CREATED:20250306T012022Z
LAST-MODIFIED:20250306T012022Z
UID:18458-1747180800-1747267199@hechos29.co
SUMMARY:Daniel 5:13-31
DESCRIPTION:
URL:https://hechos29.co/evento/daniel-513-31-2/
END:VEVENT
BEGIN:VEVENT
DTSTART;VALUE=DATE:20250513
DTEND;VALUE=DATE:20250514
DTSTAMP:20260423T063558
CREATED:20250306T011948Z
LAST-MODIFIED:20250306T011948Z
UID:18456-1747094400-1747180799@hechos29.co
SUMMARY:Daniel 5:1-12
DESCRIPTION:
URL:https://hechos29.co/evento/daniel-51-12-2/
END:VEVENT
BEGIN:VEVENT
DTSTART;VALUE=DATE:20250512
DTEND;VALUE=DATE:20250513
DTSTAMP:20260423T063558
CREATED:20250306T011859Z
LAST-MODIFIED:20250306T011859Z
UID:18454-1747008000-1747094399@hechos29.co
SUMMARY:Daniel 4:28-37
DESCRIPTION:
URL:https://hechos29.co/evento/daniel-428-37/
END:VEVENT
BEGIN:VEVENT
DTSTART;VALUE=DATE:20250511
DTEND;VALUE=DATE:20250512
DTSTAMP:20260423T063558
CREATED:20250306T011815Z
LAST-MODIFIED:20250306T011815Z
UID:18452-1746921600-1747007999@hechos29.co
SUMMARY:Salmos 133:1-134:3
DESCRIPTION:
URL:https://hechos29.co/evento/salmos-1331-1343/
END:VEVENT
BEGIN:VEVENT
DTSTART;VALUE=DATE:20250510
DTEND;VALUE=DATE:20250511
DTSTAMP:20260423T063558
CREATED:20250306T011729Z
LAST-MODIFIED:20250306T011729Z
UID:18450-1746835200-1746921599@hechos29.co
SUMMARY:Salmos 132:1-18
DESCRIPTION:
URL:https://hechos29.co/evento/salmos-1321-18/
END:VEVENT
BEGIN:VEVENT
DTSTART;VALUE=DATE:20250509
DTEND;VALUE=DATE:20250510
DTSTAMP:20260423T063558
CREATED:20250306T011650Z
LAST-MODIFIED:20250306T011650Z
UID:18448-1746748800-1746835199@hechos29.co
SUMMARY:Salmos 130:1-131:3
DESCRIPTION:
URL:https://hechos29.co/evento/salmos-1301-1313/
END:VEVENT
BEGIN:VEVENT
DTSTART;VALUE=DATE:20250508
DTEND;VALUE=DATE:20250509
DTSTAMP:20260423T063558
CREATED:20250306T011550Z
LAST-MODIFIED:20250306T011550Z
UID:18446-1746662400-1746748799@hechos29.co
SUMMARY:Salmos 129:1-8
DESCRIPTION:
URL:https://hechos29.co/evento/salmos-1291-8/
END:VEVENT
BEGIN:VEVENT
DTSTART;VALUE=DATE:20250507
DTEND;VALUE=DATE:20250508
DTSTAMP:20260423T063558
CREATED:20250306T011458Z
LAST-MODIFIED:20250306T011458Z
UID:18444-1746576000-1746662399@hechos29.co
SUMMARY:Salmos 128:1-6
DESCRIPTION:
URL:https://hechos29.co/evento/salmos-1281-6/
END:VEVENT
BEGIN:VEVENT
DTSTART;VALUE=DATE:20250506
DTEND;VALUE=DATE:20250507
DTSTAMP:20260423T063558
CREATED:20250306T011413Z
LAST-MODIFIED:20250306T011413Z
UID:18442-1746489600-1746575999@hechos29.co
SUMMARY:Salmos 127:1-5
DESCRIPTION:
URL:https://hechos29.co/evento/salmos-1271-5/
END:VEVENT
BEGIN:VEVENT
DTSTART;VALUE=DATE:20250505
DTEND;VALUE=DATE:20250506
DTSTAMP:20260423T063558
CREATED:20250306T011332Z
LAST-MODIFIED:20250306T011332Z
UID:18440-1746403200-1746489599@hechos29.co
SUMMARY:Salmos 126:1-6
DESCRIPTION:
URL:https://hechos29.co/evento/salmos-1261-6/
END:VEVENT
BEGIN:VEVENT
DTSTART;VALUE=DATE:20250504
DTEND;VALUE=DATE:20250505
DTSTAMP:20260423T063558
CREATED:20250306T011250Z
LAST-MODIFIED:20250306T011250Z
UID:18438-1746316800-1746403199@hechos29.co
SUMMARY:Daniel 4:19-27
DESCRIPTION:
URL:https://hechos29.co/evento/daniel-419-27-2/
END:VEVENT
BEGIN:VEVENT
DTSTART;VALUE=DATE:20250503
DTEND;VALUE=DATE:20250504
DTSTAMP:20260423T063558
CREATED:20250306T011209Z
LAST-MODIFIED:20250306T011209Z
UID:18436-1746230400-1746316799@hechos29.co
SUMMARY:Daniel 4:1-18
DESCRIPTION:
URL:https://hechos29.co/evento/daniel-41-18-2/
END:VEVENT
BEGIN:VEVENT
DTSTART;VALUE=DATE:20250502
DTEND;VALUE=DATE:20250503
DTSTAMP:20260423T063558
CREATED:20250306T011119Z
LAST-MODIFIED:20250306T011119Z
UID:18434-1746144000-1746230399@hechos29.co
SUMMARY:Daniel 3:19-30
DESCRIPTION:
URL:https://hechos29.co/evento/daniel-319-30-2/
END:VEVENT
BEGIN:VEVENT
DTSTART;VALUE=DATE:20250501
DTEND;VALUE=DATE:20250502
DTSTAMP:20260423T063558
CREATED:20250306T010935Z
LAST-MODIFIED:20250306T010935Z
UID:18432-1746057600-1746143999@hechos29.co
SUMMARY:Daniel 3:1-18
DESCRIPTION:
URL:https://hechos29.co/evento/daniel-31-18-2/
END:VEVENT
BEGIN:VEVENT
DTSTART;VALUE=DATE:20250430
DTEND;VALUE=DATE:20250501
DTSTAMP:20260423T063558
CREATED:20250306T010518Z
LAST-MODIFIED:20250306T010518Z
UID:18430-1745971200-1746057599@hechos29.co
SUMMARY:Daniel 2:24-49
DESCRIPTION:
URL:https://hechos29.co/evento/daniel-224-49-2/
END:VEVENT
BEGIN:VEVENT
DTSTART;VALUE=DATE:20250429
DTEND;VALUE=DATE:20250430
DTSTAMP:20260423T063558
CREATED:20250306T010432Z
LAST-MODIFIED:20250306T010432Z
UID:18428-1745884800-1745971199@hechos29.co
SUMMARY:Daniel 2:1-23
DESCRIPTION:
URL:https://hechos29.co/evento/daniel-21-23-2/
END:VEVENT
BEGIN:VEVENT
DTSTART;VALUE=DATE:20250428
DTEND;VALUE=DATE:20250429
DTSTAMP:20260423T063558
CREATED:20250306T010340Z
LAST-MODIFIED:20250306T010340Z
UID:18426-1745798400-1745884799@hechos29.co
SUMMARY:Daniel 1:1-21
DESCRIPTION:
URL:https://hechos29.co/evento/daniel-11-21/
END:VEVENT
BEGIN:VEVENT
DTSTART;VALUE=DATE:20250427
DTEND;VALUE=DATE:20250428
DTSTAMP:20260423T063558
CREATED:20250426T150216Z
LAST-MODIFIED:20250426T150216Z
UID:18522-1745712000-1745798399@hechos29.co
SUMMARY:2 Reyes 25:22-30
DESCRIPTION:
URL:https://hechos29.co/evento/2-reyes-2522-30/
END:VEVENT
BEGIN:VEVENT
DTSTART;VALUE=DATE:20250427
DTEND;VALUE=DATE:20250428
DTSTAMP:20260423T063558
CREATED:20250217T213347Z
LAST-MODIFIED:20250217T213347Z
UID:18411-1745712000-1745798399@hechos29.co
SUMMARY:Salmos 125:1-5
DESCRIPTION:
URL:https://hechos29.co/evento/salmos-1251-5/
END:VEVENT
END:VCALENDAR