BEGIN:VCALENDAR
VERSION:2.0
PRODID:-//Hechos 29 - ECPv6.15.20//NONSGML v1.0//EN
CALSCALE:GREGORIAN
METHOD:PUBLISH
X-WR-CALNAME:Hechos 29
X-ORIGINAL-URL:https://hechos29.co
X-WR-CALDESC:Eventos para Hechos 29
REFRESH-INTERVAL;VALUE=DURATION:PT1H
X-Robots-Tag:noindex
X-PUBLISHED-TTL:PT1H
BEGIN:VTIMEZONE
TZID:America/Bogota
BEGIN:STANDARD
TZOFFSETFROM:-0500
TZOFFSETTO:-0500
TZNAME:-05
DTSTART:20240101T000000
END:STANDARD
END:VTIMEZONE
BEGIN:VEVENT
DTSTART;VALUE=DATE:20250501
DTEND;VALUE=DATE:20250502
DTSTAMP:20260423T165555
CREATED:20250306T010935Z
LAST-MODIFIED:20250306T010935Z
UID:18432-1746057600-1746143999@hechos29.co
SUMMARY:Daniel 3:1-18
DESCRIPTION:
URL:https://hechos29.co/evento/daniel-31-18-2/
END:VEVENT
BEGIN:VEVENT
DTSTART;VALUE=DATE:20250430
DTEND;VALUE=DATE:20250501
DTSTAMP:20260423T165555
CREATED:20250306T010518Z
LAST-MODIFIED:20250306T010518Z
UID:18430-1745971200-1746057599@hechos29.co
SUMMARY:Daniel 2:24-49
DESCRIPTION:
URL:https://hechos29.co/evento/daniel-224-49-2/
END:VEVENT
BEGIN:VEVENT
DTSTART;VALUE=DATE:20250429
DTEND;VALUE=DATE:20250430
DTSTAMP:20260423T165555
CREATED:20250306T010432Z
LAST-MODIFIED:20250306T010432Z
UID:18428-1745884800-1745971199@hechos29.co
SUMMARY:Daniel 2:1-23
DESCRIPTION:
URL:https://hechos29.co/evento/daniel-21-23-2/
END:VEVENT
BEGIN:VEVENT
DTSTART;VALUE=DATE:20250428
DTEND;VALUE=DATE:20250429
DTSTAMP:20260423T165555
CREATED:20250306T010340Z
LAST-MODIFIED:20250306T010340Z
UID:18426-1745798400-1745884799@hechos29.co
SUMMARY:Daniel 1:1-21
DESCRIPTION:
URL:https://hechos29.co/evento/daniel-11-21/
END:VEVENT
BEGIN:VEVENT
DTSTART;VALUE=DATE:20250427
DTEND;VALUE=DATE:20250428
DTSTAMP:20260423T165555
CREATED:20250426T150216Z
LAST-MODIFIED:20250426T150216Z
UID:18522-1745712000-1745798399@hechos29.co
SUMMARY:2 Reyes 25:22-30
DESCRIPTION:
URL:https://hechos29.co/evento/2-reyes-2522-30/
END:VEVENT
BEGIN:VEVENT
DTSTART;VALUE=DATE:20250427
DTEND;VALUE=DATE:20250428
DTSTAMP:20260423T165555
CREATED:20250217T213347Z
LAST-MODIFIED:20250217T213347Z
UID:18411-1745712000-1745798399@hechos29.co
SUMMARY:Salmos 125:1-5
DESCRIPTION:
URL:https://hechos29.co/evento/salmos-1251-5/
END:VEVENT
BEGIN:VEVENT
DTSTART;VALUE=DATE:20250426
DTEND;VALUE=DATE:20250427
DTSTAMP:20260423T165555
CREATED:20250217T213309Z
LAST-MODIFIED:20250217T213309Z
UID:18409-1745625600-1745711999@hechos29.co
SUMMARY:Salmos 124:1-8
DESCRIPTION:
URL:https://hechos29.co/evento/salmos-1241-8/
END:VEVENT
BEGIN:VEVENT
DTSTART;VALUE=DATE:20250425
DTEND;VALUE=DATE:20250426
DTSTAMP:20260423T165555
CREATED:20250217T213212Z
LAST-MODIFIED:20250217T213212Z
UID:18407-1745539200-1745625599@hechos29.co
SUMMARY:Salmos 123:1-4
DESCRIPTION:
URL:https://hechos29.co/evento/salmos-1231-4/
END:VEVENT
BEGIN:VEVENT
DTSTART;VALUE=DATE:20250424
DTEND;VALUE=DATE:20250425
DTSTAMP:20260423T165555
CREATED:20250217T213017Z
LAST-MODIFIED:20250217T213017Z
UID:18405-1745452800-1745539199@hechos29.co
SUMMARY:2 Reyes 25:8-21
DESCRIPTION:
URL:https://hechos29.co/evento/2-reyes-258-21/
END:VEVENT
BEGIN:VEVENT
DTSTART;VALUE=DATE:20250423
DTEND;VALUE=DATE:20250424
DTSTAMP:20260423T165555
CREATED:20250217T212921Z
LAST-MODIFIED:20250217T212921Z
UID:18403-1745366400-1745452799@hechos29.co
SUMMARY:2 Reyes 25:1-7
DESCRIPTION:
URL:https://hechos29.co/evento/2-reyes-251-7/
END:VEVENT
BEGIN:VEVENT
DTSTART;VALUE=DATE:20250422
DTEND;VALUE=DATE:20250423
DTSTAMP:20260423T165555
CREATED:20250217T212843Z
LAST-MODIFIED:20250217T212843Z
UID:18401-1745280000-1745366399@hechos29.co
SUMMARY:2 Reyes 24:1-20
DESCRIPTION:
URL:https://hechos29.co/evento/2-reyes-241-20/
END:VEVENT
BEGIN:VEVENT
DTSTART;VALUE=DATE:20250421
DTEND;VALUE=DATE:20250422
DTSTAMP:20260423T165555
CREATED:20250217T212749Z
LAST-MODIFIED:20250217T212749Z
UID:18399-1745193600-1745279999@hechos29.co
SUMMARY:2 Reyes 23:21-37
DESCRIPTION:
URL:https://hechos29.co/evento/2-reyes-2321-37/
END:VEVENT
BEGIN:VEVENT
DTSTART;VALUE=DATE:20250420
DTEND;VALUE=DATE:20250421
DTSTAMP:20260423T165555
CREATED:20250217T212645Z
LAST-MODIFIED:20250217T212645Z
UID:18397-1745107200-1745193599@hechos29.co
SUMMARY:Marcos 16:1-20
DESCRIPTION:
URL:https://hechos29.co/evento/marcos-161-20-2/
END:VEVENT
BEGIN:VEVENT
DTSTART;VALUE=DATE:20250419
DTEND;VALUE=DATE:20250420
DTSTAMP:20260423T165555
CREATED:20250217T212605Z
LAST-MODIFIED:20250217T212605Z
UID:18395-1745020800-1745107199@hechos29.co
SUMMARY:Marcos 15:21-47
DESCRIPTION:
URL:https://hechos29.co/evento/marcos-1521-47/
END:VEVENT
BEGIN:VEVENT
DTSTART;VALUE=DATE:20250418
DTEND;VALUE=DATE:20250419
DTSTAMP:20260423T165555
CREATED:20250217T212518Z
LAST-MODIFIED:20250217T212518Z
UID:18393-1744934400-1745020799@hechos29.co
SUMMARY:Marcos 15:1-20
DESCRIPTION:
URL:https://hechos29.co/evento/marcos-151-20-3/
END:VEVENT
BEGIN:VEVENT
DTSTART;VALUE=DATE:20250417
DTEND;VALUE=DATE:20250418
DTSTAMP:20260423T165555
CREATED:20250217T212405Z
LAST-MODIFIED:20250217T212405Z
UID:18391-1744848000-1744934399@hechos29.co
SUMMARY:Marcos 14:32-52
DESCRIPTION:
URL:https://hechos29.co/evento/marcos-1432-52/
END:VEVENT
BEGIN:VEVENT
DTSTART;VALUE=DATE:20250416
DTEND;VALUE=DATE:20250417
DTSTAMP:20260423T165555
CREATED:20250217T212322Z
LAST-MODIFIED:20250217T212322Z
UID:18389-1744761600-1744847999@hechos29.co
SUMMARY:Marcos 14:12-31
DESCRIPTION:
URL:https://hechos29.co/evento/marcos-1412-31/
END:VEVENT
BEGIN:VEVENT
DTSTART;VALUE=DATE:20250415
DTEND;VALUE=DATE:20250416
DTSTAMP:20260423T165555
CREATED:20250217T212208Z
LAST-MODIFIED:20250217T212208Z
UID:18387-1744675200-1744761599@hechos29.co
SUMMARY:Marcos 6:1-12
DESCRIPTION:
URL:https://hechos29.co/evento/marcos-61-12/
END:VEVENT
BEGIN:VEVENT
DTSTART;VALUE=DATE:20250414
DTEND;VALUE=DATE:20250415
DTSTAMP:20260423T165555
CREATED:20250217T211822Z
LAST-MODIFIED:20250217T211822Z
UID:18385-1744588800-1744675199@hechos29.co
SUMMARY:Marcos 2:1-17
DESCRIPTION:
URL:https://hechos29.co/evento/marcos-21-17/
END:VEVENT
BEGIN:VEVENT
DTSTART;VALUE=DATE:20250413
DTEND;VALUE=DATE:20250414
DTSTAMP:20260423T165555
CREATED:20250217T211730Z
LAST-MODIFIED:20250217T211730Z
UID:18383-1744502400-1744588799@hechos29.co
SUMMARY:Marcos 1:1-20
DESCRIPTION:
URL:https://hechos29.co/evento/marcos-11-20/
END:VEVENT
BEGIN:VEVENT
DTSTART;VALUE=DATE:20250412
DTEND;VALUE=DATE:20250413
DTSTAMP:20260423T165555
CREATED:20250217T211539Z
LAST-MODIFIED:20250217T211539Z
UID:18381-1744416000-1744502399@hechos29.co
SUMMARY:2 Reyes 23:1-20
DESCRIPTION:
URL:https://hechos29.co/evento/2-reyes-231-20/
END:VEVENT
BEGIN:VEVENT
DTSTART;VALUE=DATE:20250411
DTEND;VALUE=DATE:20250412
DTSTAMP:20260423T165555
CREATED:20250217T211452Z
LAST-MODIFIED:20250217T211452Z
UID:18379-1744329600-1744415999@hechos29.co
SUMMARY:2 Reyes 22:1-20
DESCRIPTION:
URL:https://hechos29.co/evento/2-reyes-221-20/
END:VEVENT
BEGIN:VEVENT
DTSTART;VALUE=DATE:20250410
DTEND;VALUE=DATE:20250411
DTSTAMP:20260423T165555
CREATED:20250217T211411Z
LAST-MODIFIED:20250217T211411Z
UID:18377-1744243200-1744329599@hechos29.co
SUMMARY:2 Reyes 21:10-26
DESCRIPTION:
URL:https://hechos29.co/evento/2-reyes-2110-26/
END:VEVENT
BEGIN:VEVENT
DTSTART;VALUE=DATE:20250409
DTEND;VALUE=DATE:20250410
DTSTAMP:20260423T165555
CREATED:20250217T211333Z
LAST-MODIFIED:20250217T211333Z
UID:18375-1744156800-1744243199@hechos29.co
SUMMARY:2 Reyes 21:1-9
DESCRIPTION:
URL:https://hechos29.co/evento/2-reyes-211-9/
END:VEVENT
BEGIN:VEVENT
DTSTART;VALUE=DATE:20250408
DTEND;VALUE=DATE:20250409
DTSTAMP:20260423T165555
CREATED:20250217T211204Z
LAST-MODIFIED:20250217T211204Z
UID:18373-1744070400-1744156799@hechos29.co
SUMMARY:2 Reyes 20:12-21
DESCRIPTION:
URL:https://hechos29.co/evento/2-reyes-2012-21/
END:VEVENT
BEGIN:VEVENT
DTSTART;VALUE=DATE:20250407
DTEND;VALUE=DATE:20250408
DTSTAMP:20260423T165555
CREATED:20250217T211112Z
LAST-MODIFIED:20250217T211112Z
UID:18371-1743984000-1744070399@hechos29.co
SUMMARY:2 Reyes 20:1-11
DESCRIPTION:
URL:https://hechos29.co/evento/2-reyes-201-11/
END:VEVENT
BEGIN:VEVENT
DTSTART;VALUE=DATE:20250406
DTEND;VALUE=DATE:20250407
DTSTAMP:20260423T165555
CREATED:20250217T211003Z
LAST-MODIFIED:20250217T211003Z
UID:18369-1743897600-1743983999@hechos29.co
SUMMARY:Salmos 122:1-9
DESCRIPTION:
URL:https://hechos29.co/evento/salmos-1221-9/
END:VEVENT
BEGIN:VEVENT
DTSTART;VALUE=DATE:20250405
DTEND;VALUE=DATE:20250406
DTSTAMP:20260423T165555
CREATED:20250217T210912Z
LAST-MODIFIED:20250217T210912Z
UID:18367-1743811200-1743897599@hechos29.co
SUMMARY:Salmos 121:1-8
DESCRIPTION:
URL:https://hechos29.co/evento/salmos-1211-8/
END:VEVENT
BEGIN:VEVENT
DTSTART;VALUE=DATE:20250404
DTEND;VALUE=DATE:20250405
DTSTAMP:20260423T165555
CREATED:20250217T210831Z
LAST-MODIFIED:20250217T210831Z
UID:18365-1743724800-1743811199@hechos29.co
SUMMARY:Salmos 120:1-7
DESCRIPTION:
URL:https://hechos29.co/evento/salmos-1201-7/
END:VEVENT
BEGIN:VEVENT
DTSTART;VALUE=DATE:20250403
DTEND;VALUE=DATE:20250404
DTSTAMP:20260423T165555
CREATED:20250217T210215Z
LAST-MODIFIED:20250217T210215Z
UID:18360-1743638400-1743724799@hechos29.co
SUMMARY:Salmos 119:161-176
DESCRIPTION:
URL:https://hechos29.co/evento/salmos-119161-176/
END:VEVENT
END:VCALENDAR