BEGIN:VCALENDAR
VERSION:2.0
PRODID:-//Hechos 29 - ECPv6.15.20//NONSGML v1.0//EN
CALSCALE:GREGORIAN
METHOD:PUBLISH
X-WR-CALNAME:Hechos 29
X-ORIGINAL-URL:https://hechos29.co
X-WR-CALDESC:Eventos para Hechos 29
REFRESH-INTERVAL;VALUE=DURATION:PT1H
X-Robots-Tag:noindex
X-PUBLISHED-TTL:PT1H
BEGIN:VTIMEZONE
TZID:America/Bogota
BEGIN:STANDARD
TZOFFSETFROM:-0500
TZOFFSETTO:-0500
TZNAME:-05
DTSTART:20240101T000000
END:STANDARD
END:VTIMEZONE
BEGIN:VEVENT
DTSTART;VALUE=DATE:20250408
DTEND;VALUE=DATE:20250409
DTSTAMP:20260423T205456
CREATED:20250217T211204Z
LAST-MODIFIED:20250217T211204Z
UID:18373-1744070400-1744156799@hechos29.co
SUMMARY:2 Reyes 20:12-21
DESCRIPTION:
URL:https://hechos29.co/evento/2-reyes-2012-21/
END:VEVENT
BEGIN:VEVENT
DTSTART;VALUE=DATE:20250407
DTEND;VALUE=DATE:20250408
DTSTAMP:20260423T205456
CREATED:20250217T211112Z
LAST-MODIFIED:20250217T211112Z
UID:18371-1743984000-1744070399@hechos29.co
SUMMARY:2 Reyes 20:1-11
DESCRIPTION:
URL:https://hechos29.co/evento/2-reyes-201-11/
END:VEVENT
BEGIN:VEVENT
DTSTART;VALUE=DATE:20250406
DTEND;VALUE=DATE:20250407
DTSTAMP:20260423T205456
CREATED:20250217T211003Z
LAST-MODIFIED:20250217T211003Z
UID:18369-1743897600-1743983999@hechos29.co
SUMMARY:Salmos 122:1-9
DESCRIPTION:
URL:https://hechos29.co/evento/salmos-1221-9/
END:VEVENT
BEGIN:VEVENT
DTSTART;VALUE=DATE:20250405
DTEND;VALUE=DATE:20250406
DTSTAMP:20260423T205456
CREATED:20250217T210912Z
LAST-MODIFIED:20250217T210912Z
UID:18367-1743811200-1743897599@hechos29.co
SUMMARY:Salmos 121:1-8
DESCRIPTION:
URL:https://hechos29.co/evento/salmos-1211-8/
END:VEVENT
BEGIN:VEVENT
DTSTART;VALUE=DATE:20250404
DTEND;VALUE=DATE:20250405
DTSTAMP:20260423T205456
CREATED:20250217T210831Z
LAST-MODIFIED:20250217T210831Z
UID:18365-1743724800-1743811199@hechos29.co
SUMMARY:Salmos 120:1-7
DESCRIPTION:
URL:https://hechos29.co/evento/salmos-1201-7/
END:VEVENT
BEGIN:VEVENT
DTSTART;VALUE=DATE:20250403
DTEND;VALUE=DATE:20250404
DTSTAMP:20260423T205456
CREATED:20250217T210215Z
LAST-MODIFIED:20250217T210215Z
UID:18360-1743638400-1743724799@hechos29.co
SUMMARY:Salmos 119:161-176
DESCRIPTION:
URL:https://hechos29.co/evento/salmos-119161-176/
END:VEVENT
BEGIN:VEVENT
DTSTART;VALUE=DATE:20250402
DTEND;VALUE=DATE:20250403
DTSTAMP:20260423T205456
CREATED:20250217T210108Z
LAST-MODIFIED:20250217T210624Z
UID:18358-1743552000-1743638399@hechos29.co
SUMMARY:Salmos 119:145-160
DESCRIPTION:
URL:https://hechos29.co/evento/salmos-199145-160/
END:VEVENT
BEGIN:VEVENT
DTSTART;VALUE=DATE:20250401
DTEND;VALUE=DATE:20250402
DTSTAMP:20260423T205456
CREATED:20250217T210010Z
LAST-MODIFIED:20250217T210507Z
UID:18356-1743465600-1743551999@hechos29.co
SUMMARY:Salmos 119:129-144
DESCRIPTION:
URL:https://hechos29.co/evento/salmos-199129-144/
END:VEVENT
BEGIN:VEVENT
DTSTART;VALUE=DATE:20250331
DTEND;VALUE=DATE:20250401
DTSTAMP:20260423T205456
CREATED:20250217T205858Z
LAST-MODIFIED:20250217T210328Z
UID:18354-1743379200-1743465599@hechos29.co
SUMMARY:Salmos 119:113-128
DESCRIPTION:
URL:https://hechos29.co/evento/salmos-199113-128/
END:VEVENT
BEGIN:VEVENT
DTSTART;VALUE=DATE:20250330
DTEND;VALUE=DATE:20250331
DTSTAMP:20260423T205457
CREATED:20250217T205717Z
LAST-MODIFIED:20250217T205717Z
UID:18352-1743292800-1743379199@hechos29.co
SUMMARY:2 Reyes 19:20-37
DESCRIPTION:
URL:https://hechos29.co/evento/2-reyes-1920-37/
END:VEVENT
BEGIN:VEVENT
DTSTART;VALUE=DATE:20250329
DTEND;VALUE=DATE:20250330
DTSTAMP:20260423T205457
CREATED:20250217T205608Z
LAST-MODIFIED:20250217T205608Z
UID:18350-1743206400-1743292799@hechos29.co
SUMMARY:2 Reyes 19:1-19
DESCRIPTION:
URL:https://hechos29.co/evento/2-reyes-191-19/
END:VEVENT
BEGIN:VEVENT
DTSTART;VALUE=DATE:20250328
DTEND;VALUE=DATE:20250329
DTSTAMP:20260423T205457
CREATED:20250217T205523Z
LAST-MODIFIED:20250217T205523Z
UID:18348-1743120000-1743206399@hechos29.co
SUMMARY:2 Reyes 18:19-37
DESCRIPTION:
URL:https://hechos29.co/evento/2-reyes-1819-37/
END:VEVENT
BEGIN:VEVENT
DTSTART;VALUE=DATE:20250327
DTEND;VALUE=DATE:20250328
DTSTAMP:20260423T205457
CREATED:20250217T205409Z
LAST-MODIFIED:20250217T205409Z
UID:18346-1743033600-1743119999@hechos29.co
SUMMARY:2 Reyes 18:1-18
DESCRIPTION:
URL:https://hechos29.co/evento/2-reyes-181-18/
END:VEVENT
BEGIN:VEVENT
DTSTART;VALUE=DATE:20250326
DTEND;VALUE=DATE:20250327
DTSTAMP:20260423T205457
CREATED:20250217T205255Z
LAST-MODIFIED:20250217T205255Z
UID:18344-1742947200-1743033599@hechos29.co
SUMMARY:2 Reyes 17:24-41
DESCRIPTION:
URL:https://hechos29.co/evento/2-reyes-1724-41/
END:VEVENT
BEGIN:VEVENT
DTSTART;VALUE=DATE:20250325
DTEND;VALUE=DATE:20250326
DTSTAMP:20260423T205457
CREATED:20250217T205151Z
LAST-MODIFIED:20250217T205151Z
UID:18342-1742860800-1742947199@hechos29.co
SUMMARY:2 Reyes 17:1-23
DESCRIPTION:
URL:https://hechos29.co/evento/2-reyes-171-23/
END:VEVENT
BEGIN:VEVENT
DTSTART;VALUE=DATE:20250324
DTEND;VALUE=DATE:20250325
DTSTAMP:20260423T205457
CREATED:20250217T205111Z
LAST-MODIFIED:20250217T205111Z
UID:18340-1742774400-1742860799@hechos29.co
SUMMARY:2 Reyes 16:1-19
DESCRIPTION:
URL:https://hechos29.co/evento/2-reyes-161-19/
END:VEVENT
BEGIN:VEVENT
DTSTART;VALUE=DATE:20250323
DTEND;VALUE=DATE:20250324
DTSTAMP:20260423T205457
CREATED:20250217T204947Z
LAST-MODIFIED:20250217T204947Z
UID:18338-1742688000-1742774399@hechos29.co
SUMMARY:Salmos  119:97-112
DESCRIPTION:
URL:https://hechos29.co/evento/salmos-11997-112/
END:VEVENT
BEGIN:VEVENT
DTSTART;VALUE=DATE:20250322
DTEND;VALUE=DATE:20250323
DTSTAMP:20260423T205457
CREATED:20250217T204907Z
LAST-MODIFIED:20250217T204907Z
UID:18336-1742601600-1742687999@hechos29.co
SUMMARY:Salmos  119:81-96
DESCRIPTION:
URL:https://hechos29.co/evento/salmos-11981-96/
END:VEVENT
BEGIN:VEVENT
DTSTART;VALUE=DATE:20250321
DTEND;VALUE=DATE:20250322
DTSTAMP:20260423T205457
CREATED:20250217T204821Z
LAST-MODIFIED:20250217T204821Z
UID:18334-1742515200-1742601599@hechos29.co
SUMMARY:Salmos  119:65-80
DESCRIPTION:
URL:https://hechos29.co/evento/salmos-11965-80/
END:VEVENT
BEGIN:VEVENT
DTSTART;VALUE=DATE:20250320
DTEND;VALUE=DATE:20250321
DTSTAMP:20260423T205457
CREATED:20250217T204732Z
LAST-MODIFIED:20250217T204732Z
UID:18332-1742428800-1742515199@hechos29.co
SUMMARY:Salmos  119:49-64
DESCRIPTION:
URL:https://hechos29.co/evento/salmos-11949-64/
END:VEVENT
BEGIN:VEVENT
DTSTART;VALUE=DATE:20250319
DTEND;VALUE=DATE:20250320
DTSTAMP:20260423T205457
CREATED:20250217T204643Z
LAST-MODIFIED:20250217T204643Z
UID:18330-1742342400-1742428799@hechos29.co
SUMMARY:Salmos  119:33-48
DESCRIPTION:
URL:https://hechos29.co/evento/salmos-11933-48/
END:VEVENT
BEGIN:VEVENT
DTSTART;VALUE=DATE:20250318
DTEND;VALUE=DATE:20250319
DTSTAMP:20260423T205457
CREATED:20250217T204553Z
LAST-MODIFIED:20250217T204553Z
UID:18328-1742256000-1742342399@hechos29.co
SUMMARY:Salmos  119:17-32
DESCRIPTION:
URL:https://hechos29.co/evento/salmos-11917-32/
END:VEVENT
BEGIN:VEVENT
DTSTART;VALUE=DATE:20250317
DTEND;VALUE=DATE:20250318
DTSTAMP:20260423T205457
CREATED:20250217T204512Z
LAST-MODIFIED:20250217T204512Z
UID:18326-1742169600-1742255999@hechos29.co
SUMMARY:Salmos  119:1-16
DESCRIPTION:
URL:https://hechos29.co/evento/salmos-1191-16/
END:VEVENT
BEGIN:VEVENT
DTSTART;VALUE=DATE:20250316
DTEND;VALUE=DATE:20250317
DTSTAMP:20260423T205457
CREATED:20250217T204359Z
LAST-MODIFIED:20250217T204359Z
UID:18324-1742083200-1742169599@hechos29.co
SUMMARY:2 Reyes 15:27-38
DESCRIPTION:
URL:https://hechos29.co/evento/2-reyes-1527-38/
END:VEVENT
BEGIN:VEVENT
DTSTART;VALUE=DATE:20250315
DTEND;VALUE=DATE:20250316
DTSTAMP:20260423T205457
CREATED:20250217T203737Z
LAST-MODIFIED:20250217T203737Z
UID:18322-1741996800-1742083199@hechos29.co
SUMMARY:2 Reyes 15:13-26
DESCRIPTION:
URL:https://hechos29.co/evento/2-reyes-1513-26/
END:VEVENT
BEGIN:VEVENT
DTSTART;VALUE=DATE:20250314
DTEND;VALUE=DATE:20250315
DTSTAMP:20260423T205457
CREATED:20250217T203645Z
LAST-MODIFIED:20250217T203645Z
UID:18320-1741910400-1741996799@hechos29.co
SUMMARY:2 Reyes 15:1-12
DESCRIPTION:
URL:https://hechos29.co/evento/2-reyes-151-12/
END:VEVENT
BEGIN:VEVENT
DTSTART;VALUE=DATE:20250313
DTEND;VALUE=DATE:20250314
DTSTAMP:20260423T205457
CREATED:20250217T203307Z
LAST-MODIFIED:20250217T203307Z
UID:18318-1741824000-1741910399@hechos29.co
SUMMARY:2 Reyes 14:23-29
DESCRIPTION:
URL:https://hechos29.co/evento/2-reyes-1423-29/
END:VEVENT
BEGIN:VEVENT
DTSTART;VALUE=DATE:20250312
DTEND;VALUE=DATE:20250313
DTSTAMP:20260423T205457
CREATED:20250217T203121Z
LAST-MODIFIED:20250217T203121Z
UID:18316-1741737600-1741823999@hechos29.co
SUMMARY:2 Reyes 14:1-22
DESCRIPTION:
URL:https://hechos29.co/evento/2-reyes-141-22/
END:VEVENT
BEGIN:VEVENT
DTSTART;VALUE=DATE:20250311
DTEND;VALUE=DATE:20250312
DTSTAMP:20260423T205457
CREATED:20250217T202911Z
LAST-MODIFIED:20250217T202925Z
UID:18314-1741651200-1741737599@hechos29.co
SUMMARY:2 Reyes 13:14-25
DESCRIPTION:
URL:https://hechos29.co/evento/2-reyes-1314-25/
END:VEVENT
BEGIN:VEVENT
DTSTART;VALUE=DATE:20250310
DTEND;VALUE=DATE:20250311
DTSTAMP:20260423T205457
CREATED:20250213T181208Z
LAST-MODIFIED:20250217T202734Z
UID:18304-1741564800-1741651199@hechos29.co
SUMMARY:2 Reyes 13:1-13
DESCRIPTION:
URL:https://hechos29.co/evento/salmos-11814-29/
END:VEVENT
END:VCALENDAR