BEGIN:VCALENDAR
VERSION:2.0
PRODID:-//Hechos 29 - ECPv6.15.20//NONSGML v1.0//EN
CALSCALE:GREGORIAN
METHOD:PUBLISH
X-WR-CALNAME:Hechos 29
X-ORIGINAL-URL:https://hechos29.co
X-WR-CALDESC:Eventos para Hechos 29
REFRESH-INTERVAL;VALUE=DURATION:PT1H
X-Robots-Tag:noindex
X-PUBLISHED-TTL:PT1H
BEGIN:VTIMEZONE
TZID:America/Bogota
BEGIN:STANDARD
TZOFFSETFROM:-0500
TZOFFSETTO:-0500
TZNAME:-05
DTSTART:20230101T000000
END:STANDARD
END:VTIMEZONE
BEGIN:VEVENT
DTSTART;VALUE=DATE:20240901
DTEND;VALUE=DATE:20240902
DTSTAMP:20260421T185838
CREATED:20240605T222833Z
LAST-MODIFIED:20240605T222833Z
UID:17604-1725148800-1725235199@hechos29.co
SUMMARY:1 Reyes 7:1-12
DESCRIPTION:
URL:https://hechos29.co/evento/1-reyes-71-12/
END:VEVENT
BEGIN:VEVENT
DTSTART;VALUE=DATE:20240902
DTEND;VALUE=DATE:20240903
DTSTAMP:20260421T185838
CREATED:20240605T223023Z
LAST-MODIFIED:20240605T223023Z
UID:17606-1725235200-1725321599@hechos29.co
SUMMARY:Romanos 15:14-22
DESCRIPTION:
URL:https://hechos29.co/evento/romanos-1514-22/
END:VEVENT
BEGIN:VEVENT
DTSTART;VALUE=DATE:20240903
DTEND;VALUE=DATE:20240904
DTSTAMP:20260421T185838
CREATED:20240605T223254Z
LAST-MODIFIED:20240605T223254Z
UID:17608-1725321600-1725407999@hechos29.co
SUMMARY:Romanos 15:23-33
DESCRIPTION:
URL:https://hechos29.co/evento/romanos-1523-33/
END:VEVENT
BEGIN:VEVENT
DTSTART;VALUE=DATE:20240904
DTEND;VALUE=DATE:20240905
DTSTAMP:20260421T185838
CREATED:20240605T223456Z
LAST-MODIFIED:20240605T223456Z
UID:17610-1725408000-1725494399@hechos29.co
SUMMARY:Romanos 16:1-16
DESCRIPTION:
URL:https://hechos29.co/evento/romanos-161-16/
END:VEVENT
BEGIN:VEVENT
DTSTART;VALUE=DATE:20240905
DTEND;VALUE=DATE:20240906
DTSTAMP:20260421T185838
CREATED:20240605T223552Z
LAST-MODIFIED:20240605T223552Z
UID:17612-1725494400-1725580799@hechos29.co
SUMMARY:Romanos 16:17-27
DESCRIPTION:
URL:https://hechos29.co/evento/romanos-1617-27/
END:VEVENT
BEGIN:VEVENT
DTSTART;VALUE=DATE:20240906
DTEND;VALUE=DATE:20240907
DTSTAMP:20260421T185838
CREATED:20240605T224036Z
LAST-MODIFIED:20240605T224036Z
UID:17614-1725580800-1725667199@hechos29.co
SUMMARY:Salmos 60:1-12
DESCRIPTION:
URL:https://hechos29.co/evento/salmos-601-12-2/
END:VEVENT
BEGIN:VEVENT
DTSTART;VALUE=DATE:20240907
DTEND;VALUE=DATE:20240908
DTSTAMP:20260421T185838
CREATED:20240605T224623Z
LAST-MODIFIED:20240605T224623Z
UID:17616-1725667200-1725753599@hechos29.co
SUMMARY:Salmos 61:1-8
DESCRIPTION:
URL:https://hechos29.co/evento/salmos-611-8-2/
END:VEVENT
BEGIN:VEVENT
DTSTART;VALUE=DATE:20240908
DTEND;VALUE=DATE:20240909
DTSTAMP:20260421T185838
CREATED:20240605T224816Z
LAST-MODIFIED:20240605T224816Z
UID:17618-1725753600-1725839999@hechos29.co
SUMMARY:Salmos 62:1-12
DESCRIPTION:
URL:https://hechos29.co/evento/salmos-621-12-2/
END:VEVENT
BEGIN:VEVENT
DTSTART;VALUE=DATE:20240909
DTEND;VALUE=DATE:20240910
DTSTAMP:20260421T185838
CREATED:20240605T225014Z
LAST-MODIFIED:20240605T225014Z
UID:17620-1725840000-1725926399@hechos29.co
SUMMARY:Salmos 63:1-11
DESCRIPTION:
URL:https://hechos29.co/evento/salmos-631-11-2/
END:VEVENT
BEGIN:VEVENT
DTSTART;VALUE=DATE:20240910
DTEND;VALUE=DATE:20240911
DTSTAMP:20260421T185838
CREATED:20240605T225105Z
LAST-MODIFIED:20240605T225105Z
UID:17622-1725926400-1726012799@hechos29.co
SUMMARY:Salmos 64:1-10
DESCRIPTION:
URL:https://hechos29.co/evento/salmos-641-10-2/
END:VEVENT
BEGIN:VEVENT
DTSTART;VALUE=DATE:20240911
DTEND;VALUE=DATE:20240912
DTSTAMP:20260421T185838
CREATED:20240605T225213Z
LAST-MODIFIED:20240605T225213Z
UID:17624-1726012800-1726099199@hechos29.co
SUMMARY:Salmos 65:1-13
DESCRIPTION:
URL:https://hechos29.co/evento/salmos-651-13-2/
END:VEVENT
BEGIN:VEVENT
DTSTART;VALUE=DATE:20240912
DTEND;VALUE=DATE:20240913
DTSTAMP:20260421T185838
CREATED:20240605T225456Z
LAST-MODIFIED:20240605T225456Z
UID:17626-1726099200-1726185599@hechos29.co
SUMMARY:Salmos 66:1-20
DESCRIPTION:
URL:https://hechos29.co/evento/salmos-661-20-2/
END:VEVENT
BEGIN:VEVENT
DTSTART;VALUE=DATE:20240913
DTEND;VALUE=DATE:20240914
DTSTAMP:20260421T185838
CREATED:20240605T225848Z
LAST-MODIFIED:20240605T225848Z
UID:17628-1726185600-1726271999@hechos29.co
SUMMARY:Salmos 67:1-7
DESCRIPTION:
URL:https://hechos29.co/evento/salmos-671-7-2/
END:VEVENT
BEGIN:VEVENT
DTSTART;VALUE=DATE:20240914
DTEND;VALUE=DATE:20240915
DTSTAMP:20260421T185838
CREATED:20240605T225930Z
LAST-MODIFIED:20240605T225930Z
UID:17630-1726272000-1726358399@hechos29.co
SUMMARY:Salmos 68:1-19
DESCRIPTION:
URL:https://hechos29.co/evento/salmos-681-19-2/
END:VEVENT
BEGIN:VEVENT
DTSTART;VALUE=DATE:20240915
DTEND;VALUE=DATE:20240916
DTSTAMP:20260421T185838
CREATED:20240605T230232Z
LAST-MODIFIED:20240605T230232Z
UID:17632-1726358400-1726444799@hechos29.co
SUMMARY:Salmos 68:20-35
DESCRIPTION:
URL:https://hechos29.co/evento/salmos-6820-35-2/
END:VEVENT
BEGIN:VEVENT
DTSTART;VALUE=DATE:20240916
DTEND;VALUE=DATE:20240917
DTSTAMP:20260421T185838
CREATED:20240605T230321Z
LAST-MODIFIED:20240605T230321Z
UID:17634-1726444800-1726531199@hechos29.co
SUMMARY:Efesios 1:1-14
DESCRIPTION:
URL:https://hechos29.co/evento/efesios-11-14/
END:VEVENT
BEGIN:VEVENT
DTSTART;VALUE=DATE:20240917
DTEND;VALUE=DATE:20240918
DTSTAMP:20260421T185838
CREATED:20240605T230412Z
LAST-MODIFIED:20240605T230412Z
UID:17636-1726531200-1726617599@hechos29.co
SUMMARY:Efesios 1:15-23
DESCRIPTION:
URL:https://hechos29.co/evento/efesios-115-23/
END:VEVENT
BEGIN:VEVENT
DTSTART;VALUE=DATE:20240918
DTEND;VALUE=DATE:20240919
DTSTAMP:20260421T185838
CREATED:20240605T230514Z
LAST-MODIFIED:20240605T230514Z
UID:17638-1726617600-1726703999@hechos29.co
SUMMARY:Efesios 2:1-10
DESCRIPTION:
URL:https://hechos29.co/evento/efesios-21-10/
END:VEVENT
BEGIN:VEVENT
DTSTART;VALUE=DATE:20240919
DTEND;VALUE=DATE:20240920
DTSTAMP:20260421T185838
CREATED:20240605T231428Z
LAST-MODIFIED:20240605T231428Z
UID:17641-1726704000-1726790399@hechos29.co
SUMMARY:Efesios 2:11-22
DESCRIPTION:
URL:https://hechos29.co/evento/efesios-211-22/
END:VEVENT
BEGIN:VEVENT
DTSTART;VALUE=DATE:20240920
DTEND;VALUE=DATE:20240921
DTSTAMP:20260421T185838
CREATED:20240605T231519Z
LAST-MODIFIED:20240605T231519Z
UID:17643-1726790400-1726876799@hechos29.co
SUMMARY:Efesios 3:1-13
DESCRIPTION:
URL:https://hechos29.co/evento/efesios-31-13/
END:VEVENT
BEGIN:VEVENT
DTSTART;VALUE=DATE:20240921
DTEND;VALUE=DATE:20240922
DTSTAMP:20260421T185838
CREATED:20240605T231600Z
LAST-MODIFIED:20240605T231600Z
UID:17645-1726876800-1726963199@hechos29.co
SUMMARY:Efesios 3:14-21
DESCRIPTION:
URL:https://hechos29.co/evento/efesios-314-21/
END:VEVENT
BEGIN:VEVENT
DTSTART;VALUE=DATE:20240922
DTEND;VALUE=DATE:20240923
DTSTAMP:20260421T185838
CREATED:20240605T231652Z
LAST-MODIFIED:20240605T231652Z
UID:17647-1726963200-1727049599@hechos29.co
SUMMARY:Efesios 4:1-16
DESCRIPTION:
URL:https://hechos29.co/evento/efesios-41-16/
END:VEVENT
BEGIN:VEVENT
DTSTART;VALUE=DATE:20240923
DTEND;VALUE=DATE:20240924
DTSTAMP:20260421T185838
CREATED:20240605T231744Z
LAST-MODIFIED:20240605T231744Z
UID:17649-1727049600-1727135999@hechos29.co
SUMMARY:1 Reyes 7:13-51
DESCRIPTION:
URL:https://hechos29.co/evento/1-reyes-713-51/
END:VEVENT
BEGIN:VEVENT
DTSTART;VALUE=DATE:20240924
DTEND;VALUE=DATE:20240925
DTSTAMP:20260421T185838
CREATED:20240605T231834Z
LAST-MODIFIED:20240605T231834Z
UID:17651-1727136000-1727222399@hechos29.co
SUMMARY:1 Reyes 8:1-11
DESCRIPTION:
URL:https://hechos29.co/evento/1-reyes-81-11/
END:VEVENT
BEGIN:VEVENT
DTSTART;VALUE=DATE:20240925
DTEND;VALUE=DATE:20240926
DTSTAMP:20260421T185838
CREATED:20240605T231931Z
LAST-MODIFIED:20240605T231931Z
UID:17653-1727222400-1727308799@hechos29.co
SUMMARY:1 Reyes 8:12-21
DESCRIPTION:
URL:https://hechos29.co/evento/1-reyes-812-21/
END:VEVENT
BEGIN:VEVENT
DTSTART;VALUE=DATE:20240926
DTEND;VALUE=DATE:20240927
DTSTAMP:20260421T185838
CREATED:20240605T232021Z
LAST-MODIFIED:20240605T232021Z
UID:17655-1727308800-1727395199@hechos29.co
SUMMARY:1 Reyes 8:22-53
DESCRIPTION:
URL:https://hechos29.co/evento/1-reyes-822-53/
END:VEVENT
BEGIN:VEVENT
DTSTART;VALUE=DATE:20240927
DTEND;VALUE=DATE:20240928
DTSTAMP:20260421T185838
CREATED:20240605T232057Z
LAST-MODIFIED:20240605T232057Z
UID:17657-1727395200-1727481599@hechos29.co
SUMMARY:1 Reyes 8:54-66
DESCRIPTION:
URL:https://hechos29.co/evento/1-reyes-854-66/
END:VEVENT
BEGIN:VEVENT
DTSTART;VALUE=DATE:20240928
DTEND;VALUE=DATE:20240929
DTSTAMP:20260421T185838
CREATED:20240605T232136Z
LAST-MODIFIED:20240605T232136Z
UID:17659-1727481600-1727567999@hechos29.co
SUMMARY:1 Reyes 9:1-14
DESCRIPTION:
URL:https://hechos29.co/evento/1-reyes-91-14/
END:VEVENT
BEGIN:VEVENT
DTSTART;VALUE=DATE:20240929
DTEND;VALUE=DATE:20240930
DTSTAMP:20260421T185838
CREATED:20240605T232220Z
LAST-MODIFIED:20240605T232220Z
UID:17661-1727568000-1727654399@hechos29.co
SUMMARY:1 Reyes 9:15-28
DESCRIPTION:
URL:https://hechos29.co/evento/1-reyes-915-28/
END:VEVENT
BEGIN:VEVENT
DTSTART;VALUE=DATE:20240930
DTEND;VALUE=DATE:20241001
DTSTAMP:20260421T185838
CREATED:20240605T232347Z
LAST-MODIFIED:20240605T232347Z
UID:17663-1727654400-1727740799@hechos29.co
SUMMARY:Efesios 4:17-32
DESCRIPTION:
URL:https://hechos29.co/evento/efesios-417-32/
END:VEVENT
END:VCALENDAR